BEGIN:VCALENDAR
VERSION:2.0
PRODID:-//ChamberMaster//Event Calendar 2.0//EN
METHOD:PUBLISH
X-PUBLISHED-TTL:P3D
REFRESH-INTERVAL:P3D
CALSCALE:GREGORIAN
BEGIN:VEVENT
DTSTART:20090220T173000Z
DTEND:20090220T183000Z
X-MICROSOFT-CDO-ALLDAYEVENT:FALSE
SUMMARY:Trimone Hodge Allstate Agency Ribbon Cutting Ceremony
DESCRIPTION:
X-ALT-DESC;FMTTYPE=text/html:
LOCATION:Trimone Hodge Allstate Agency
UID:e.2096.601
SEQUENCE:3
DTSTAMP:20260424T080300Z
URL:https://network.garlandchamber.com/events/details/trimone-hodge-allstate-agency-ribbon-cutting-ceremony-02-20-2009-601
END:VEVENT

END:VCALENDAR
