BEGIN:VCALENDAR
VERSION:2.0
PRODID:-//ChamberMaster//Event Calendar 2.0//EN
METHOD:PUBLISH
X-PUBLISHED-TTL:P3D
REFRESH-INTERVAL:P3D
CALSCALE:GREGORIAN
BEGIN:VEVENT
DTSTART:20101210T060000Z
DTEND:20101231T060000Z
X-MICROSOFT-CDO-ALLDAYEVENT:FALSE
SUMMARY:Truly Noble Angel Program - Submit Your Letters
DESCRIPTION:
X-ALT-DESC;FMTTYPE=text/html:
LOCATION:Truly Noble Services\, Inc.
UID:e.2096.858
SEQUENCE:3
DTSTAMP:20260423T010509Z
URL:https://network.garlandchamber.com/events/details/truly-noble-angel-program-submit-your-letters-12-10-2010-858
END:VEVENT

END:VCALENDAR
