BEGIN:VCALENDAR
VERSION:2.0
PRODID:-//ChamberMaster//Event Calendar 2.0//EN
METHOD:PUBLISH
X-PUBLISHED-TTL:P3D
REFRESH-INTERVAL:P3D
CALSCALE:GREGORIAN
BEGIN:VEVENT
DTSTART:20121031T230000Z
DTEND:20121101T013000Z
X-MICROSOFT-CDO-ALLDAYEVENT:FALSE
SUMMARY:Twilight on the Mount
DESCRIPTION:Mount Hebron Missionary Baptist Church\, located at 1233 Highway 66 in Garland\, presents the Halloween alternative\, "Twilight\," Oct. 31\, 2012 from 6 to 8:30 p.m. This FREE family event will be filled with fun\, games\, snacks\, "Trunk or Treat\," an antique car show and the dramatic theme park presentation\, "There's No Place Like Home." For more information\, call (972) 276-5218\, email socialmedia@onthemount.org or go to www.onthemount.org. See the Event Flyer
X-ALT-DESC;FMTTYPE=text/html:<DIV style="FONT-FAMILY: Arial">Mount Hebron Missionary Baptist Church\, located at 1233 Highway 66 in Garland\, presents the Halloween alternative\, "Twilight\," Oct. 31\, 2012 from 6 to 8:30 p.m. This FREE family event will be filled with fun\, games\, snacks\, "Trunk or Treat\," an antique car show and the dramatic theme park presentation\, "There's No Place Like Home."</DIV><DIV style="FONT-FAMILY: Arial">&nbsp\;</DIV><DIV style="FONT-FAMILY: Arial">For more information\, call (972) 276-5218\, email <A href="mailto:socialmedia@onthemount.org">socialmedia@onthemount.org</A> or go to <A href="http://www.onthemount.org">www.onthemount.org</A>.</DIV><DIV style="FONT-FAMILY: Arial">&nbsp\;</DIV><DIV style="FONT-FAMILY: Arial"><A dataFld=0:0 href="http://www.garlandchamber.com/images/stories/chamber/Member%20Promotions/1TwilightPoster201212X18.pdf">See the Event Flyer</A></DIV>
LOCATION:Mt. Hebron Baptist Church
UID:e.2096.1094
SEQUENCE:3
DTSTAMP:20260421T175416Z
URL:https://network.garlandchamber.com/events/details/twilight-on-the-mount-10-31-2012-1094
END:VEVENT

END:VCALENDAR
