BEGIN:VCALENDAR
VERSION:2.0
PRODID:-//ChamberMaster//Event Calendar 2.0//EN
METHOD:PUBLISH
X-PUBLISHED-TTL:P3D
REFRESH-INTERVAL:P3D
CALSCALE:GREGORIAN
BEGIN:VEVENT
DTSTART:20120229T173000Z
DTEND:20120229T190000Z
X-MICROSOFT-CDO-ALLDAYEVENT:FALSE
SUMMARY:TX Security Bank Business Institute
DESCRIPTION:Click the following link to register for this event.https://www.texassecuritybank.com/commercial/tsbinstitute/
X-ALT-DESC;FMTTYPE=text/html:<P><FONT size=4>Click the following link to register for this event.</FONT></P><P><A href="https://www.texassecuritybank.com/commercial/tsbinstitute/"><FONT size=4>https://www.texassecuritybank.com/commercial/tsbinstitute/</FONT></A></P>
LOCATION:Garland Chamber of Commerce
UID:e.2096.999
SEQUENCE:3
DTSTAMP:20260422T051815Z
URL:https://network.garlandchamber.com/events/details/tx-security-bank-business-institute-02-29-2012-999
END:VEVENT

END:VCALENDAR
