BEGIN:VCALENDAR
VERSION:2.0
PRODID:-//ChamberMaster//Event Calendar 2.0//EN
METHOD:PUBLISH
X-PUBLISHED-TTL:P3D
REFRESH-INTERVAL:P3D
CALSCALE:GREGORIAN
BEGIN:VEVENT
DTSTART:20120627T163000Z
DTEND:20120627T180000Z
X-MICROSOFT-CDO-ALLDAYEVENT:FALSE
SUMMARY:TX Security Bank Business Institute
DESCRIPTION:Optimizing Funding for Your BusinessTexas Security Bank Business Institute Advice for the Business Owner:Understand the types of business funding availableMatch the right funding to your situationUnderstand the costs and trade-offs of different funding typesAccess sources you may not be aware of Click here to see the event flyer or register online now!
X-ALT-DESC;FMTTYPE=text/html:<DIV style="FONT-FAMILY: Arial">Optimizing Funding for Your Business</DIV><DIV style="FONT-FAMILY: Arial">Texas Security Bank Business Institute</DIV><DIV style="FONT-FAMILY: Arial">&nbsp\;</DIV><DIV style="FONT-FAMILY: Arial">Advice for the Business Owner:</DIV><DIV style="FONT-FAMILY: Arial">Understand the types of business funding available</DIV><DIV style="FONT-FAMILY: Arial">Match the right funding to your situation</DIV><DIV style="FONT-FAMILY: Arial">Understand the costs and trade-offs of different funding types</DIV><DIV style="FONT-FAMILY: Arial">Access sources you may not be aware of</DIV><DIV style="FONT-FAMILY: Arial">&nbsp\;</DIV><DIV style="FONT-FAMILY: Arial"><A dataFld=0:0 href="http://www.garlandchamber.com/images/stories/chamber/Member%20Promotions/TX%20Security%20Bank%20Business%20Institute%20June.pdf">Click here</A> to see the event flyer or <A dataFld=0:0 href="https://www.texassecuritybank.com/commercial/tsbinstitute/">register online now</A>!</DIV>
LOCATION:Garland Chamber of Commerce
UID:e.2096.1062
SEQUENCE:3
DTSTAMP:20260422T010521Z
URL:https://network.garlandchamber.com/events/details/tx-security-bank-business-institute-06-27-2012-1062
END:VEVENT

END:VCALENDAR
