BEGIN:VCALENDAR
VERSION:2.0
PRODID:-//ChamberMaster//Event Calendar 2.0//EN
METHOD:PUBLISH
X-PUBLISHED-TTL:P3D
REFRESH-INTERVAL:P3D
CALSCALE:GREGORIAN
BEGIN:VEVENT
DTSTART:20080219T060000Z
DTEND:20080219T060000Z
X-MICROSOFT-CDO-ALLDAYEVENT:FALSE
SUMMARY:U.S. Congressman Sam Johnson Business Roundtable
DESCRIPTION:U.S. Congressman Sam Johnson Business Roundtable
X-ALT-DESC;FMTTYPE=text/html:U.S. Congressman Sam Johnson Business Roundtable
LOCATION:Garland Chamber
UID:e.2096.1822
SEQUENCE:3
DTSTAMP:20260425T003639Z
URL:https://network.garlandchamber.com/events/details/u-s-congressman-sam-johnson-business-roundtable-02-19-2008-1822
END:VEVENT

END:VCALENDAR
