BEGIN:VCALENDAR
VERSION:2.0
PRODID:-//ChamberMaster//Event Calendar 2.0//EN
METHOD:PUBLISH
X-PUBLISHED-TTL:P3D
REFRESH-INTERVAL:P3D
CALSCALE:GREGORIAN
BEGIN:VEVENT
DTSTART:20080116T213000Z
DTEND:20080116T224500Z
X-MICROSOFT-CDO-ALLDAYEVENT:FALSE
SUMMARY:U.S. Senator Cornyn- ''Special Coffee''
DESCRIPTION:
X-ALT-DESC;FMTTYPE=text/html:
LOCATION:
UID:e.2096.482
SEQUENCE:3
DTSTAMP:20260425T014837Z
URL:https://network.garlandchamber.com/events/details/u-s-senator-cornyn-special-coffee-01-16-2008-482
END:VEVENT

END:VCALENDAR
