BEGIN:VCALENDAR
VERSION:2.0
PRODID:-//ChamberMaster//Event Calendar 2.0//EN
METHOD:PUBLISH
X-PUBLISHED-TTL:P3D
REFRESH-INTERVAL:P3D
CALSCALE:GREGORIAN
BEGIN:VEVENT
DTSTART:20090829T220000Z
DTEND:20090829T050000Z
X-MICROSOFT-CDO-ALLDAYEVENT:FALSE
SUMMARY:Uniquely U Grand Opening & Ribbon Cutting
DESCRIPTION:
X-ALT-DESC;FMTTYPE=text/html:
LOCATION:Uniquely U Ribbon Cutting & Grand Opening
UID:e.2096.697
SEQUENCE:3
DTSTAMP:20260423T234327Z
URL:https://network.garlandchamber.com/events/details/uniquely-u-grand-opening-ribbon-cutting-08-29-2009-697
END:VEVENT

END:VCALENDAR
