BEGIN:VCALENDAR
VERSION:2.0
PRODID:-//ChamberMaster//Event Calendar 2.0//EN
METHOD:PUBLISH
X-PUBLISHED-TTL:P3D
REFRESH-INTERVAL:P3D
CALSCALE:GREGORIAN
BEGIN:VEVENT
DTSTART:20101028T050000Z
DTEND:20101105T050000Z
X-MICROSOFT-CDO-ALLDAYEVENT:FALSE
SUMMARY:Unite Community Food Drive
DESCRIPTION:For more information or free tickets go to www.worldvisionexperience.org/springcreek
X-ALT-DESC;FMTTYPE=text/html:<DIV><P class=MsoNormal style="MARGIN: 0in 0in 0pt">For more information or free tickets go to <A href="http://www.worldvisionexperience.org/springcreek">www.worldvisionexperience.org/springcreek</A></P><P class=MsoNormal style="MARGIN: 0in 0in 0pt">&nbsp\;</P></DIV>
LOCATION:
UID:e.2096.829
SEQUENCE:3
DTSTAMP:20260423T023628Z
URL:https://network.garlandchamber.com/events/details/unite-community-food-drive-10-28-2010-829
END:VEVENT

END:VCALENDAR
