BEGIN:VCALENDAR
VERSION:2.0
PRODID:-//ChamberMaster//Event Calendar 2.0//EN
METHOD:PUBLISH
X-PUBLISHED-TTL:P3D
REFRESH-INTERVAL:P3D
CALSCALE:GREGORIAN
BEGIN:VEVENT
DTSTART:20120831T230000Z
DTEND:20120902T230000Z
X-MICROSOFT-CDO-ALLDAYEVENT:FALSE
SUMMARY:Unity Fest 2012 on the Mount
DESCRIPTION:Mount Hebron Missionary Baptist Church\, located at 1233 State Highway 66 in Garland presents Unity Fest 2012\, Aug. 31 through Sept. 2. Three days of fun\, food and entertainment!  Friday\, Aug. 31\, it's a FREE fish fry\, plus Jazz Under the Stars.  Saturday\, Sept. 1 enjoy games\, food-eating contests\, a 3-on-3 basketball tournament\, health screenings\, a carnival\, vendors\, a talent showcase and more.  Sunday\, Sept. 2 it's a Gospel Extravaganza benefitting M.U.C.H. (Mount Hebron Urban & Community Housing)\, featuring Gospel recording artist J. Moss\, comedians Robert Duckworth and Jason Earls\, Marquinn Middleton & The Miracle Chorale\, Darrell Yancey and the Mount Hebron Mass Choir. Tickets for the concert are $10 in advance\, $12 at the door.  For more information\, call (972) 276-5218 or visit the Mt. Hebron website.
X-ALT-DESC;FMTTYPE=text/html:<DIV style="FONT-FAMILY: Arial">Mount Hebron Missionary Baptist Church\, located at 1233 State Highway 66 in Garland presents Unity Fest 2012\, Aug. 31 through Sept. 2. Three days of fun\, food and entertainment! </DIV><DIV style="FONT-FAMILY: Arial">&nbsp\;</DIV><DIV style="FONT-FAMILY: Arial">Friday\, Aug. 31\, it's a FREE fish fry\, plus Jazz Under the Stars. </DIV><DIV style="FONT-FAMILY: Arial">&nbsp\;</DIV><DIV style="FONT-FAMILY: Arial">Saturday\, Sept. 1 enjoy games\, food-eating contests\, a 3-on-3 basketball tournament\, health screenings\, a carnival\, vendors\, a talent showcase and more. </DIV><DIV style="FONT-FAMILY: Arial">&nbsp\;</DIV><DIV style="FONT-FAMILY: Arial">Sunday\, Sept. 2 it's a Gospel Extravaganza benefitting M.U.C.H. (Mount Hebron Urban &amp\; Community Housing)\, featuring Gospel recording artist J. Moss\, comedians Robert Duckworth and Jason Earls\, Marquinn Middleton &amp\; The Miracle Chorale\, Darrell Yancey and the Mount Hebron Mass Choir. Tickets for the concert are $10 in advance\, $12 at the door. </DIV><DIV style="FONT-FAMILY: Arial">&nbsp\;</DIV><DIV style="FONT-FAMILY: Arial">For more information\, call (972) 276-5218 or visit the <A dataFld=0:0 href="http://www.onthemount.org/unityfest.html">Mt. Hebron website</A>.</DIV><DIV style="FONT-FAMILY: Arial">&nbsp\;</DIV>
LOCATION:Mt. Hebron Baptist Church
UID:e.2096.1082
SEQUENCE:3
DTSTAMP:20260421T192036Z
URL:https://network.garlandchamber.com/events/details/unity-fest-2012-on-the-mount-08-31-2012-1082
END:VEVENT

END:VCALENDAR
