BEGIN:VCALENDAR
VERSION:2.0
PRODID:-//ChamberMaster//Event Calendar 2.0//EN
METHOD:PUBLISH
X-PUBLISHED-TTL:P3D
REFRESH-INTERVAL:P3D
CALSCALE:GREGORIAN
BEGIN:VEVENT
DTSTART:20110430T140000Z
DTEND:20110430T160000Z
X-MICROSOFT-CDO-ALLDAYEVENT:FALSE
SUMMARY:University of North Texas at Dallas Community Workshop
DESCRIPTION:The University of North Texas at Dallas through a community partnership with Comerica Bank\, will beco-hosting a Financial Literacy Workshop at our campus on Saturday April 30\, 2011\, from 9-11 a.m.\nFinancial experts will be on site sharing ways to become bank ready as well as answering any questions about becoming fiscally stable. Additionally\, all attendees will have the opportunity to open afree checking account that morning.
X-ALT-DESC;FMTTYPE=text/html:The University of North Texas at Dallas through a community partnership with Comerica Bank\, will beco-hosting a Financial Literacy Workshop at our campus on Saturday April 30\, 2011\, from 9-11 a.m.\nFinancial experts will be on site sharing ways to become bank ready as well as answering any questions about becoming fiscally stable. Additionally\, all attendees will have the opportunity to open afree checking account that morning.\n
LOCATION:UNT Dallas
UID:e.2096.15
SEQUENCE:3
DTSTAMP:20260422T210227Z
URL:https://network.garlandchamber.com/events/details/university-of-north-texas-at-dallas-community-workshop-04-30-2011-15
END:VEVENT

END:VCALENDAR
