BEGIN:VCALENDAR
VERSION:2.0
PRODID:-//ChamberMaster//Event Calendar 2.0//EN
METHOD:PUBLISH
X-PUBLISHED-TTL:P3D
REFRESH-INTERVAL:P3D
CALSCALE:GREGORIAN
BEGIN:VEVENT
DTSTART:20120826T000000Z
DTEND:20120826T040000Z
X-MICROSOFT-CDO-ALLDAYEVENT:FALSE
SUMMARY:Urban League of Greater Dallas 45th Anniversary Gala
DESCRIPTION:The Urban League of Greater Dallas honors its partners and supporters at its 45th Anniversary Gala. The Gala serves as the organization's major fundraiser\, which supports the many programs that provide opportunities for area citizens. This year\, Jim A. Washington will receive the Whitney M. Young\, Jr. Humanitarian award. Stan Levenson\, past board chair\, will receive the President's award. Coca-Cola Refreshments will receive the Buddy J. Minyard Corporate Award. Edna Pemberton\, a long-time friend of the community and Urban League of Greater Dallas\, will recieve the Spirit of Community Award. Come out and help the Urban League salute these great partners and community advocates. Black tie optional Register Now! For additional questions or to register by phone\, call (214) 915-4632.
X-ALT-DESC;FMTTYPE=text/html:<DIV style="FONT-FAMILY: Arial">The Urban League of Greater Dallas honors its partners and supporters at its 45th Anniversary Gala.</DIV><DIV style="FONT-FAMILY: Arial">&nbsp\;</DIV><DIV style="FONT-FAMILY: Arial">The Gala serves as the organization's major fundraiser\, which supports the many programs that provide opportunities for area citizens.</DIV><DIV style="FONT-FAMILY: Arial">&nbsp\;</DIV><DIV style="FONT-FAMILY: Arial">This year\, Jim A. Washington will receive the Whitney M. Young\, Jr. Humanitarian award. Stan Levenson\, past board chair\, will receive the President's award. Coca-Cola Refreshments will receive the Buddy J. Minyard Corporate Award. Edna Pemberton\, a long-time friend of the community and Urban League of Greater Dallas\, will recieve the Spirit of Community Award.</DIV><DIV style="FONT-FAMILY: Arial">&nbsp\;</DIV><DIV style="FONT-FAMILY: Arial">Come out and help the Urban League salute these great partners and community advocates.</DIV><DIV style="FONT-FAMILY: Arial">&nbsp\;</DIV><DIV style="FONT-FAMILY: Arial">Black tie optional</DIV><DIV style="FONT-FAMILY: Arial">&nbsp\;</DIV><DIV style="FONT-FAMILY: Arial"><A dataFld=0:0 href="https://events.r20.constantcontact.com/register/eventReg?llr=g9tiz9bab&amp\;oeidk=a07e5ohonyb60c20be3&amp\;oseq=a001evo3geuk">Register Now!</A></DIV><DIV style="FONT-FAMILY: Arial">&nbsp\;</DIV><DIV style="FONT-FAMILY: Arial">For additional questions or to register by phone\, call (214) 915-4632.</DIV>
LOCATION:Hilton Anatole Hotel
UID:e.2096.1070
SEQUENCE:3
DTSTAMP:20260421T204820Z
URL:https://network.garlandchamber.com/events/details/urban-league-of-greater-dallas-45th-anniversary-gala-08-25-2012-1070
END:VEVENT

END:VCALENDAR
