BEGIN:VCALENDAR
VERSION:2.0
PRODID:-//ChamberMaster//Event Calendar 2.0//EN
METHOD:PUBLISH
X-PUBLISHED-TTL:P3D
REFRESH-INTERVAL:P3D
CALSCALE:GREGORIAN
BEGIN:VEVENT
DTSTART:20070710T140000Z
DTEND:20070731T050000Z
X-MICROSOFT-CDO-ALLDAYEVENT:FALSE
SUMMARY:Verizon Communications FIOS Triple Package Promotion
DESCRIPTION:
X-ALT-DESC;FMTTYPE=text/html:
LOCATION:
UID:e.2096.414
SEQUENCE:3
DTSTAMP:20260425T102827Z
URL:https://network.garlandchamber.com/events/details/verizon-communications-fios-triple-package-promotion-07-10-2007-414
END:VEVENT

END:VCALENDAR
