BEGIN:VCALENDAR
VERSION:2.0
PRODID:-//ChamberMaster//Event Calendar 2.0//EN
METHOD:PUBLISH
X-PUBLISHED-TTL:P3D
REFRESH-INTERVAL:P3D
CALSCALE:GREGORIAN
BEGIN:VEVENT
DTSTART:20101008T160000Z
DTEND:20101008T050000Z
X-MICROSOFT-CDO-ALLDAYEVENT:FALSE
SUMMARY:Verizon Plus Store Grand Re-Opening
DESCRIPTION:
X-ALT-DESC;FMTTYPE=text/html:
LOCATION:Verizon Plus Store
UID:e.2096.839
SEQUENCE:3
DTSTAMP:20260423T040806Z
URL:https://network.garlandchamber.com/events/details/verizon-plus-store-grand-re-opening-10-08-2010-839
END:VEVENT

END:VCALENDAR
