BEGIN:VCALENDAR
VERSION:2.0
PRODID:-//ChamberMaster//Event Calendar 2.0//EN
METHOD:PUBLISH
X-PUBLISHED-TTL:P3D
REFRESH-INTERVAL:P3D
CALSCALE:GREGORIAN
BEGIN:VEVENT
DTSTART:20070301T200000Z
DTEND:20070301T210000Z
X-MICROSOFT-CDO-ALLDAYEVENT:FALSE
SUMMARY:Verizon Wireless Ribbon Cutting
DESCRIPTION:
X-ALT-DESC;FMTTYPE=text/html:
LOCATION:Verizon Wireless
UID:e.2096.373
SEQUENCE:3
DTSTAMP:20260425T163530Z
URL:https://network.garlandchamber.com/events/details/verizon-wireless-ribbon-cutting-03-01-2007-373
END:VEVENT

END:VCALENDAR
