BEGIN:VCALENDAR
VERSION:2.0
PRODID:-//ChamberMaster//Event Calendar 2.0//EN
METHOD:PUBLISH
X-PUBLISHED-TTL:P3D
REFRESH-INTERVAL:P3D
CALSCALE:GREGORIAN
BEGIN:VEVENT
DTSTART:20120529T130000Z
DTEND:20120529T140000Z
X-MICROSOFT-CDO-ALLDAYEVENT:FALSE
SUMMARY:VIP Coffee
DESCRIPTION:Interested in becoming a member of the Garland Chamber?\n\nIf so\, be a special guest at our VIP Coffee. Come out to  meet the Chamber CEO\, network and discuss how the Chamber can assist you in makingyour business more successful. This meeting offers you an opportunity to discuss your business and ask questions about the Garland Chamber or the City of Garland.\n\nJoin us for a great cup of coffeeand letâ€™s figure out how the Chamber can benefit your business?\n\nWE LOOK FORWARD TO MEETING YOU!\nTO RSVP\, PLEASE CONTACT KISHA \nALLEN AT (469) 326-7454 \nOR KISHA.ALLEN@GARLANDCHAMBER.COM
X-ALT-DESC;FMTTYPE=text/html:Interested in becoming a member of the Garland Chamber?\n\nIf so\, be a special guest at our VIP Coffee. Come out to  meet the Chamber CEO\, network and discuss how the Chamber can assist you in makingyour business more successful. This meeting offers you an opportunity to discuss your business and ask questions about the Garland Chamber or the City of Garland.\n\nJoin us for a great cup of coffeeand letâ€™s figure out how the Chamber can benefit your business?\n\nWE LOOK FORWARD TO MEETING YOU!\nTO RSVP\, PLEASE CONTACT KISHA \nALLEN AT (469) 326-7454 \nOR KISHA.ALLEN@GARLANDCHAMBER.COM\n
LOCATION:Garland Chamber of Commerce
UID:e.2096.7
SEQUENCE:3
DTSTAMP:20260422T005911Z
URL:https://network.garlandchamber.com/events/details/vip-coffee-05-29-2012-7
END:VEVENT

END:VCALENDAR
