BEGIN:VCALENDAR
VERSION:2.0
PRODID:-//ChamberMaster//Event Calendar 2.0//EN
METHOD:PUBLISH
X-PUBLISHED-TTL:P3D
REFRESH-INTERVAL:P3D
CALSCALE:GREGORIAN
BEGIN:VEVENT
DTSTART:20091104T180000Z
DTEND:20091104T060000Z
X-MICROSOFT-CDO-ALLDAYEVENT:FALSE
SUMMARY:Vital Home Healthcare Ribbon Cutting Ceremony
DESCRIPTION:
X-ALT-DESC;FMTTYPE=text/html:
LOCATION:Vital Home Healthcare
UID:e.2096.724
SEQUENCE:3
DTSTAMP:20260423T204507Z
URL:https://network.garlandchamber.com/events/details/vital-home-healthcare-ribbon-cutting-ceremony-11-04-2009-724
END:VEVENT

END:VCALENDAR
