BEGIN:VCALENDAR
VERSION:2.0
PRODID:-//ChamberMaster//Event Calendar 2.0//EN
METHOD:PUBLISH
X-PUBLISHED-TTL:P3D
REFRESH-INTERVAL:P3D
CALSCALE:GREGORIAN
BEGIN:VEVENT
DTSTART:20140101T060000Z
DTEND:20140101T060000Z
X-MICROSOFT-CDO-ALLDAYEVENT:FALSE
SUMMARY:WBe By Example Mentor Program
DESCRIPTION:WBE By Example Mentor Program
X-ALT-DESC;FMTTYPE=text/html:WBE By Example Mentor Program
LOCATION:Ebby Halliday Realtors
UID:e.2096.2631
SEQUENCE:3
DTSTAMP:20260420T200219Z
URL:https://network.garlandchamber.com/events/details/wbe-by-example-mentor-program-01-01-2014-2631
END:VEVENT

END:VCALENDAR
