BEGIN:VCALENDAR
VERSION:2.0
PRODID:-//ChamberMaster//Event Calendar 2.0//EN
METHOD:PUBLISH
X-PUBLISHED-TTL:P3D
REFRESH-INTERVAL:P3D
CALSCALE:GREGORIAN
BEGIN:VEVENT
DTSTART:20090415T163000Z
DTEND:20090415T180000Z
X-MICROSOFT-CDO-ALLDAYEVENT:FALSE
SUMMARY:WBe Empowerment Luncheon April 2009
DESCRIPTION:
X-ALT-DESC;FMTTYPE=text/html:
LOCATION:Baylor Medical Center at Garland
UID:e.2096.641
SEQUENCE:3
DTSTAMP:20260424T052126Z
URL:https://network.garlandchamber.com/events/details/wbe-empowerment-luncheon-april-2009-04-15-2009-641
END:VEVENT

END:VCALENDAR
