BEGIN:VCALENDAR
VERSION:2.0
PRODID:-//ChamberMaster//Event Calendar 2.0//EN
METHOD:PUBLISH
X-PUBLISHED-TTL:P3D
REFRESH-INTERVAL:P3D
CALSCALE:GREGORIAN
BEGIN:VEVENT
DTSTART:20100421T163000Z
DTEND:20100421T180000Z
X-MICROSOFT-CDO-ALLDAYEVENT:FALSE
SUMMARY:WBe Empowerment Luncheon April 2010
DESCRIPTION:
X-ALT-DESC;FMTTYPE=text/html:
LOCATION:Hyatt Place
UID:e.2096.766
SEQUENCE:3
DTSTAMP:20260423T121236Z
URL:https://network.garlandchamber.com/events/details/wbe-empowerment-luncheon-april-2010-04-21-2010-766
END:VEVENT

END:VCALENDAR
