BEGIN:VCALENDAR
VERSION:2.0
PRODID:-//ChamberMaster//Event Calendar 2.0//EN
METHOD:PUBLISH
X-PUBLISHED-TTL:P3D
REFRESH-INTERVAL:P3D
CALSCALE:GREGORIAN
BEGIN:VEVENT
DTSTART:20110420T163000Z
DTEND:20110420T180000Z
X-MICROSOFT-CDO-ALLDAYEVENT:FALSE
SUMMARY:WBe Empowerment Luncheon April 2011
DESCRIPTION:
X-ALT-DESC;FMTTYPE=text/html:
LOCATION:Hyatt Place
UID:e.2096.861
SEQUENCE:3
DTSTAMP:20260422T192725Z
URL:https://network.garlandchamber.com/events/details/wbe-empowerment-luncheon-april-2011-04-20-2011-861
END:VEVENT

END:VCALENDAR
