BEGIN:VCALENDAR
VERSION:2.0
PRODID:-//ChamberMaster//Event Calendar 2.0//EN
METHOD:PUBLISH
X-PUBLISHED-TTL:P3D
REFRESH-INTERVAL:P3D
CALSCALE:GREGORIAN
BEGIN:VEVENT
DTSTART:20130403T163000Z
DTEND:20130403T180000Z
X-MICROSOFT-CDO-ALLDAYEVENT:FALSE
SUMMARY:WBe Empowerment Luncheon April 2013
DESCRIPTION:Date: Wednesday\, April 3\, 2013\n\nTime: 11:30 a.m. - 1 p.m.\n\nLocation: Hyatt Place Dallas Garland\n\nSpeaker: Mary Frances Burleson\n\nSponsor: Christian Care Centers\n\nMary Frances Burleson is President and CEO of Ebby Halliday\, REALTORS and Dave Perry-Miller & Associates\, with more than 1\,500 sales associates and staff in 30 offices throughout North Texas. Mary Frances started with Ebby more than 50 years ago as her secretary\, opening the company?s fourth office. She has led the company?s office and services expansion\, adding mortgage\, insurance and title businesses. Mary Frances has served as president of the MetroTex Association of REALTORS and as chairman of the Texas Association of REALTORS. In 2004\, Gov. Rick Perry appointed her to serve as a broker member on the Texas Real Estate Commission. Mary Frances has been a member of the NAR Board of Directors since 1991\, and is a double star NAR RPAC Hall of Fame member. She has served as Chairman of the Board of the Baptist Foundation of Texas and of the North Dallas Chamber of Commerce.
X-ALT-DESC;FMTTYPE=text/html:<p>Date: Wednesday\,&nbsp\;April 3\, 2013<br />\nTime: 11:30 a.m. - 1 p.m.</p>\n\n<p>Location: Hyatt Place Dallas Garland<br />\nSpeaker: Mary Frances Burleson</p>\n\n<p>Sponsor: <a datafld="0:0" href="http://cccinc.net/">Christian Care Centers</a></p>\n\n<p class="MsoNormal" style="margin: 0in 0in 0pt\;"><span style="font-family: &quot\;Times New Roman&quot\;\,&quot\;serif&quot\;\; font-size: 10pt\;"><font size="3">Mary Frances Burleson is President and CEO of Ebby Halliday\, REALTORS and Dave Perry-Miller &amp\; Associates\, with more than 1\,500 sales associates and staff in 30 offices throughout <!--?xml:namespace prefix = st1 ns = "urn:schemas-microsoft-com:office:smarttags" /--><st1:place w:st="on">North Texas</st1:place>. Mary Frances started with Ebby more than 50 years ago as her secretary\, opening the company?s fourth office. She has led the company?s office and services expansion\, adding mortgage\, insurance and title businesses. Mary Frances has served as president of the MetroTex Association of REALTORS and as chairman of the Texas Association of REALTORS. In 2004\, Gov. Rick Perry appointed her to serve as a broker member on the Texas Real Estate Commission. Mary Frances has been a member of the NAR Board of Directors since 1991\, and is a double star NAR RPAC Hall of Fame member. She has served as Chairman of the Board of the Baptist Foundation of Texas and of the North Dallas Chamber of Commerce.<span style="mso-spacerun: yes\;">&nbsp\; </span><!--?xml:namespace prefix = o ns = "urn:schemas-microsoft-com:office:office" /--><o:p></o:p></font></span></p>\n
LOCATION:Hyatt Place Dallas/ Garland
UID:e.2096.1163
SEQUENCE:3
DTSTAMP:20260421T102645Z
URL:https://network.garlandchamber.com/events/details/wbe-empowerment-luncheon-april-2013-04-03-2013-1163
END:VEVENT

END:VCALENDAR
