BEGIN:VCALENDAR
VERSION:2.0
PRODID:-//ChamberMaster//Event Calendar 2.0//EN
METHOD:PUBLISH
X-PUBLISHED-TTL:P3D
REFRESH-INTERVAL:P3D
CALSCALE:GREGORIAN
BEGIN:VEVENT
DTSTART:20090819T163000Z
DTEND:20090819T180000Z
X-MICROSOFT-CDO-ALLDAYEVENT:FALSE
SUMMARY:WBe Empowerment Luncheon August 2009
DESCRIPTION:
X-ALT-DESC;FMTTYPE=text/html:
LOCATION:Baylor Medical Center at Garland
UID:e.2096.642
SEQUENCE:3
DTSTAMP:20260423T234238Z
URL:https://network.garlandchamber.com/events/details/wbe-empowerment-luncheon-august-2009-08-19-2009-642
END:VEVENT

END:VCALENDAR
