BEGIN:VCALENDAR
VERSION:2.0
PRODID:-//ChamberMaster//Event Calendar 2.0//EN
METHOD:PUBLISH
X-PUBLISHED-TTL:P3D
REFRESH-INTERVAL:P3D
CALSCALE:GREGORIAN
BEGIN:VEVENT
DTSTART:20130814T163000Z
DTEND:20130814T180000Z
X-MICROSOFT-CDO-ALLDAYEVENT:FALSE
SUMMARY:WBe Empowerment Luncheon August 2013
DESCRIPTION:Date: Wednesday\, Aug. 14\, 2013\n\nTime: 11:30 a.m. - 1 p.m.\n\nLocation: Hyatt Place Dallas Garland\n\nSpeaker: Catherine Monson\, CEO\, FASTSIGNS International\, Inc.\n\nTopic: What it Takes to Be a Successful Leader\n\nCatherine Monson was named CEO of international signage\, graphic and visual communications franchise\, FASTSIGNS International\, Inc.\, in December 2008. She brought a strong background in management and business leadership\, as well as more than 30 years of franchising and digital printing experience. Monson is known for her mentoring leadership style\, always concerned about her franchisees on both a business and personal level. She strives to bring that same style to the more than 535 franchised FASTSIGNS worldwide\, as well as to the 100 employees that comprise the FASTSIGNS International corporate team.\n\n \n\nSince joining FASTSIGNS in early 2009\, Monson has been on a mission to advance the brand from that of just a sign and banner provider to a visual ideas and comprehensive solutions provider for all kinds of businesses. Many got to see her commitment to FASTSIGNS when she appeared on the two-time Emmy Award-nominated reality series\, Undercover Boss\, in May of 2012.\n\n \n\nThe August Empowerment Luncheon is sponsored by: BB&T
X-ALT-DESC;FMTTYPE=text/html:<p>Date: Wednesday\,&nbsp\;Aug. 14\, 2013<br />\nTime: 11:30 a.m. - 1 p.m.</p>\n\n<p>Location: Hyatt Place Dallas Garland<br />\nSpeaker: Catherine Monson\, CEO\, FASTSIGNS International\, Inc.<br />\nTopic: What it Takes to Be a Successful Leader</p>\n\n<p class="MsoNormal" style="margin: 0in 0in 0pt\;">Catherine Monson was named CEO of international signage\, graphic and visual communications franchise\, FASTSIGNS International\, Inc.\, in December 2008. She brought a strong background in management and business leadership\, as well as more than 30 years of franchising and digital printing experience. Monson is known for her mentoring leadership style\, always concerned about her franchisees on both a business and personal level. She strives to bring that same style to the more than 535 franchised FASTSIGNS worldwide\, as well as to the 100 employees that comprise the FASTSIGNS International corporate team.</p>\n\n<p class="MsoNormal" style="margin: 0in 0in 0pt\;">&nbsp\;</p>\n\n<p class="MsoNormal" style="margin: 0in 0in 0pt\;">Since joining&nbsp\;FASTSIGNS in early 2009\, Monson has been on a mission to advance the brand from that of just a sign and banner provider to a visual ideas and comprehensive solutions provider for all kinds of businesses. Many got to see her commitment to FASTSIGNS when she appeared on the two-time Emmy Award-nominated reality series\, Undercover Boss\, in May of 2012.</p>\n\n<p class="MsoNormal" style="margin: 0in 0in 0pt\;">&nbsp\;</p>\n\n<p class="MsoNormal" style="margin: 0in 0in 0pt\;">The August Empowerment Luncheon is sponsored by:&nbsp\;<a datafld="0:0" href="http://www.bbt.com/">BB&amp\;T</a></p>\n
LOCATION:Hyatt Place Dallas/ Garland
UID:e.2096.1203
SEQUENCE:3
DTSTAMP:20260421T032401Z
URL:https://network.garlandchamber.com/events/details/wbe-empowerment-luncheon-august-2013-08-14-2013-1203
END:VEVENT

END:VCALENDAR
