BEGIN:VCALENDAR
VERSION:2.0
PRODID:-//ChamberMaster//Event Calendar 2.0//EN
METHOD:PUBLISH
X-PUBLISHED-TTL:P3D
REFRESH-INTERVAL:P3D
CALSCALE:GREGORIAN
BEGIN:VEVENT
DTSTART:20090218T173000Z
DTEND:20090218T190000Z
X-MICROSOFT-CDO-ALLDAYEVENT:FALSE
SUMMARY:WBe Empowerment Luncheon February 2009
DESCRIPTION:
X-ALT-DESC;FMTTYPE=text/html:
LOCATION:Baylor Medical Center at Garland
UID:e.2096.620
SEQUENCE:3
DTSTAMP:20260424T075623Z
URL:https://network.garlandchamber.com/events/details/wbe-empowerment-luncheon-february-2009-02-18-2009-620
END:VEVENT

END:VCALENDAR
