BEGIN:VCALENDAR
VERSION:2.0
PRODID:-//ChamberMaster//Event Calendar 2.0//EN
METHOD:PUBLISH
X-PUBLISHED-TTL:P3D
REFRESH-INTERVAL:P3D
CALSCALE:GREGORIAN
BEGIN:VEVENT
DTSTART:20110216T173000Z
DTEND:20110216T190000Z
X-MICROSOFT-CDO-ALLDAYEVENT:FALSE
SUMMARY:WBe Empowerment Luncheon February 2011
DESCRIPTION:
X-ALT-DESC;FMTTYPE=text/html:
LOCATION:Hyatt Place
UID:e.2096.860
SEQUENCE:3
DTSTAMP:20260422T223139Z
URL:https://network.garlandchamber.com/events/details/wbe-empowerment-luncheon-february-2011-02-16-2011-860
END:VEVENT

END:VCALENDAR
