BEGIN:VCALENDAR
VERSION:2.0
PRODID:-//ChamberMaster//Event Calendar 2.0//EN
METHOD:PUBLISH
X-PUBLISHED-TTL:P3D
REFRESH-INTERVAL:P3D
CALSCALE:GREGORIAN
BEGIN:VEVENT
DTSTART:20130220T173000Z
DTEND:20130220T190000Z
X-MICROSOFT-CDO-ALLDAYEVENT:FALSE
SUMMARY:WBe Empowerment Luncheon February 2013
DESCRIPTION:Date: Wednesday\, Feb. 20\, 2013\n\nTime: 11:30 a.m. - 1 p.m.\n\nLocation: Hyatt Place Dallas Garland\n\nSpeaker: JoAnn Brumit\, CEO\, KARLEE Company\n\nSponsor: Baylor Medical Center at Garland
X-ALT-DESC;FMTTYPE=text/html:<p>Date: Wednesday\, Feb. 20\, 2013<br />\nTime: 11:30 a.m. - 1 p.m.</p>\n\n<p>Location: Hyatt Place Dallas Garland<br />\nSpeaker: JoAnn Brumit\, CEO\, KARLEE Company</p>\n\n<p>Sponsor: <a datafld="0:0" href="http://www.baylorhealth.com/PhysiciansLocations/Garland/Pages/Default.aspx">Baylor Medical Center at Garland</a></p>\n
LOCATION:Hyatt Place Dallas/ Garland
UID:e.2096.1141
SEQUENCE:3
DTSTAMP:20260421T115233Z
URL:https://network.garlandchamber.com/events/details/wbe-empowerment-luncheon-february-2013-02-20-2013-1141
END:VEVENT

END:VCALENDAR
