BEGIN:VCALENDAR
VERSION:2.0
PRODID:-//ChamberMaster//Event Calendar 2.0//EN
METHOD:PUBLISH
X-PUBLISHED-TTL:P3D
REFRESH-INTERVAL:P3D
CALSCALE:GREGORIAN
BEGIN:VEVENT
DTSTART:20150204T173000Z
DTEND:20150204T190000Z
X-MICROSOFT-CDO-ALLDAYEVENT:FALSE
SUMMARY:WBe Empowerment Luncheon February 2015
DESCRIPTION:
X-ALT-DESC;FMTTYPE=text/html:
LOCATION:
UID:e.2096.2672
SEQUENCE:3
DTSTAMP:20260420T002516Z
URL:https://network.garlandchamber.com/events/details/wbe-empowerment-luncheon-february-2015-02-04-2015-2672
END:VEVENT

END:VCALENDAR
