BEGIN:VCALENDAR
VERSION:2.0
PRODID:-//ChamberMaster//Event Calendar 2.0//EN
METHOD:PUBLISH
X-PUBLISHED-TTL:P3D
REFRESH-INTERVAL:P3D
CALSCALE:GREGORIAN
BEGIN:VEVENT
DTSTART:20130605T163000Z
DTEND:20130605T180000Z
X-MICROSOFT-CDO-ALLDAYEVENT:FALSE
SUMMARY:WBe Empowerment Luncheon June 2013
DESCRIPTION:Date: Wednesday\, June 5\, 2013\n\nTime: 11:30 a.m. - 1 p.m.\n\nLocation: Hyatt Place Dallas Garland\n\nSpeaker: Elizabeth McCormick\, BlackHawk Helicopter Pilot\n\nTopic: Soar to Success\n\nThrough her stories about being a woman BlackHawk Helicopter Pilot\, Elizabeth uses humor and vulnerability to share her lessons learned relating to today's business.\n\n \n\n \n\nBelieve in yourself to accomplish your goals\n\nDetermine the meaning of success within you\n\nFocus on being your best\n\n\n\nBe inspired to "lead from where you are\," influencing others to climb to a higher level of success.\n\n \n\n \n\nExperience the real-life stories Elizabeth shares using her humor and candor inspiring you to "Soar 2 Success."\n\n \n\nThe June Empowerment Luncheon is sponsored by: Solis Women's Health
X-ALT-DESC;FMTTYPE=text/html:<p>Date: Wednesday\,&nbsp\;June 5\, 2013<br />\nTime: 11:30 a.m. - 1 p.m.</p>\n\n<p>Location: Hyatt Place Dallas Garland<br />\nSpeaker: Elizabeth McCormick\, BlackHawk Helicopter Pilot<br />\nTopic: Soar to Success</p>\n\n<p class="MsoNormal" style="margin: 0in 0in 0pt\;">Through her stories about being a woman BlackHawk Helicopter Pilot\, Elizabeth uses humor and vulnerability to share her lessons learned relating to today&#39\;s business.</p>\n\n<p class="MsoNormal" style="margin: 0in 0in 0pt\;">&nbsp\;</p>\n\n<p class="MsoNormal" style="margin: 0in 0in 0pt\;">&nbsp\;</p>\n\n<p class="MsoNormal" style="margin: 0in 0in 0pt\;">Believe in yourself to accomplish your goals</p>\n\n<p class="MsoNormal" style="margin: 0in 0in 0pt\;">Determine the meaning of success within you</p>\n\n<p class="MsoNormal" style="margin: 0in 0in 0pt\;">Focus on being your best</p>\n\n<p class="MsoNormal" style="margin: 0in 0in 0pt\;"><focus being="" font="" on="" your=""></focus></p>\n\n<p class="MsoNormal" style="margin: 0in 0in 0pt\;">Be inspired to &quot\;lead from where you are\,&quot\; influencing others to climb to a higher level of success.</p>\n\n<p class="MsoNormal" style="margin: 0in 0in 0pt\;">&nbsp\;</p>\n\n<p class="MsoNormal" style="margin: 0in 0in 0pt\;">&nbsp\;</p>\n\n<p class="MsoNormal" style="margin: 0in 0in 0pt\;">Experience the real-life stories Elizabeth shares using her humor and candor inspiring you to &quot\;Soar 2 Success.&quot\;</p>\n\n<p class="MsoNormal" style="margin: 0in 0in 0pt\;">&nbsp\;</p>\n\n<p class="MsoNormal" style="margin: 0in 0in 0pt\;">The June Empowerment Luncheon is sponsored by: <a datafld="0:0" href="http://www.solishealth.com/centers/solis-womens-health-at-firewheel">Solis Women&#39\;s Health</a></p>\n
LOCATION:Hyatt Place Dallas/ Garland
UID:e.2096.1184
SEQUENCE:3
DTSTAMP:20260421T062308Z
URL:https://network.garlandchamber.com/events/details/wbe-empowerment-luncheon-june-2013-06-05-2013-1184
END:VEVENT

END:VCALENDAR
