BEGIN:VCALENDAR
VERSION:2.0
PRODID:-//ChamberMaster//Event Calendar 2.0//EN
METHOD:PUBLISH
X-PUBLISHED-TTL:P3D
REFRESH-INTERVAL:P3D
CALSCALE:GREGORIAN
BEGIN:VEVENT
DTSTART:20140604T163000Z
DTEND:20140604T180000Z
X-MICROSOFT-CDO-ALLDAYEVENT:FALSE
SUMMARY:WBe Empowerment Luncheon June 2014
DESCRIPTION:
X-ALT-DESC;FMTTYPE=text/html:
LOCATION:Hyatt Place Dallas/ Garland
UID:e.2096.1226
SEQUENCE:3
DTSTAMP:20260420T122747Z
URL:https://network.garlandchamber.com/events/details/wbe-empowerment-luncheon-june-2014-06-04-2014-1226
END:VEVENT

END:VCALENDAR
