BEGIN:VCALENDAR
VERSION:2.0
PRODID:-//ChamberMaster//Event Calendar 2.0//EN
METHOD:PUBLISH
X-PUBLISHED-TTL:P3D
REFRESH-INTERVAL:P3D
CALSCALE:GREGORIAN
BEGIN:VEVENT
DTSTART:20070524T220000Z
DTEND:20070524T233000Z
X-MICROSOFT-CDO-ALLDAYEVENT:FALSE
SUMMARY:WBe Empowerment Luncheon May 2007
DESCRIPTION:
X-ALT-DESC;FMTTYPE=text/html:
LOCATION:Chambrel at Club Hill
UID:e.2096.389
SEQUENCE:3
DTSTAMP:20260425T133249Z
URL:https://network.garlandchamber.com/events/details/wbe-empowerment-luncheon-may-2007-05-24-2007-389
END:VEVENT

END:VCALENDAR
