BEGIN:VCALENDAR
VERSION:2.0
PRODID:-//ChamberMaster//Event Calendar 2.0//EN
METHOD:PUBLISH
X-PUBLISHED-TTL:P3D
REFRESH-INTERVAL:P3D
CALSCALE:GREGORIAN
BEGIN:VEVENT
DTSTART:20121017T163000Z
DTEND:20121017T180000Z
X-MICROSOFT-CDO-ALLDAYEVENT:FALSE
SUMMARY:WBe Empowerment Luncheon October 2012
DESCRIPTION:Date: Wednesday\, October 17\, 2012\n\nTime: 11:30 a.m. ? 1:00 p.m.\n\nLocation: Hyatt Place Dallas Garland\n\nSpeaker: Joy Weaver\, The Etiquette Expert\n\nTopic: ?How to Play Hardball with your Soft Skills?\n\nHow To Play Hardball With Your Soft Skills\n\nIn a world where we have advanced more technologically than socially\, where rudeness runs rampant\, Joy Weaver will polish you into the reality that the rules of etiquette and great manners translates into happy customers and big business. In her high-energy and fun style Joy will teach us how to play hard ball with our soft skills!\n\nAbout The Speaker\n\nJoy Weaver is a nationally recognized certified etiquette and customer service expert\, speaker\, and author of ?Just Ask Joy? How to Be Socially Savvy in All Situations??a book highly endorsed by Zig Ziglar.\n\n\n\nHer clients vary in range from corporate giants such as Raytheon\, Sprint and Balfour Construction to Junior Leagues\, Churches\, and National Charity Leagues across the nation. Joy represents designer Joseph Ribkoff and is a regular guest on ABC?s Good Morning Texas.\n\n\n\nJoy is nationally published and has been featured on ABC?s The View\, in the Associated Press\, New York Times\, USA Today\, Southern Living Magazine\, Dallas Morning News\, and The Dallas Business Journal.\n\n\n\nSocially Savvy is based in Dallas and has served clients across the country since 2000. Join the Socially Savvy conversation at SociallySavvy.org & on Facebook and Twitter.
X-ALT-DESC;FMTTYPE=text/html:<strong>Date:</strong> Wednesday\, October 17\, 2012<br />\n<strong>Time:</strong> 11:30 a.m. ? 1:00 p.m.<br />\n<strong>Location:</strong> Hyatt Place Dallas Garland<br />\n<strong>Speaker:</strong> Joy Weaver\, The Etiquette Expert<br />\n<strong>Topic:</strong> ?How to Play Hardball with your Soft Skills?\n\n<p><strong>How To Play Hardball With Your Soft Skills</strong></p>\n\n<p>In a world where we have advanced more technologically than socially\, where rudeness runs rampant\, Joy Weaver will polish you into the reality that the rules of etiquette and great manners translates into happy customers and big business. In her high-energy and fun style Joy will teach us how to play hard ball with our soft skills!</p>\n\n<p><strong>About The Speaker</strong></p>\n\n<p>Joy Weaver is a nationally recognized certified etiquette and customer service expert\, speaker\, and author of ?Just Ask Joy? How to Be Socially Savvy in All Situations??a book highly endorsed by Zig Ziglar.<br />\n<br />\nHer clients vary in range from corporate giants such as Raytheon\, Sprint and Balfour Construction to Junior Leagues\, Churches\, and National Charity Leagues across the nation. Joy represents designer Joseph Ribkoff and is a regular guest on ABC?s Good Morning Texas.<br />\n<br />\nJoy is nationally published and has been featured on ABC?s The View\, in the Associated Press\, New York Times\, USA Today\, Southern Living Magazine\, Dallas Morning News\, and The Dallas Business Journal.<br />\n<br />\nSocially Savvy is based in Dallas and has served clients across the country since 2000. Join the Socially Savvy conversation at SociallySavvy.org &amp\; on Facebook and Twitter.</p>\n
LOCATION:Hyatt Place Dallas/ Garland
UID:e.2096.1093
SEQUENCE:3
DTSTAMP:20260421T192302Z
URL:https://network.garlandchamber.com/events/details/wbe-empowerment-luncheon-october-2012-10-17-2012-1093
END:VEVENT

END:VCALENDAR
