BEGIN:VCALENDAR
VERSION:2.0
PRODID:-//ChamberMaster//Event Calendar 2.0//EN
METHOD:PUBLISH
X-PUBLISHED-TTL:P3D
REFRESH-INTERVAL:P3D
CALSCALE:GREGORIAN
BEGIN:VEVENT
DTSTART:20131002T163000Z
DTEND:20131002T180000Z
X-MICROSOFT-CDO-ALLDAYEVENT:FALSE
SUMMARY:WBe Empowerment Luncheon October 2013
DESCRIPTION:Date: Wednesday\, Oct. 2\, 2013\n\nTime: 11:30 a.m. - 1 p.m.\n\nLocation: Hyatt Place Dallas Garland\n\nSpeaker: Linda Griffin\n\nTopic: Elements of Victory\n\n"The four elements of victory that will give you the determination to keep running by putting one foot in front of the other foot."\n\nThe August Empowerment Luncheon is sponsored by: Autumn Leaves of Richardson/N. Garland
X-ALT-DESC;FMTTYPE=text/html:<p>Date: Wednesday\,&nbsp\;Oct. 2\, 2013<br />\nTime: 11:30 a.m. - 1 p.m.</p>\n\n<p>Location: Hyatt Place Dallas Garland<br />\nSpeaker: Linda Griffin<br />\nTopic: Elements of Victory<br />\n&quot\;The four elements of victory that will give you the determination to keep running by putting one foot in front of the other foot.&quot\;</p>\n\n<p class="MsoNormal" style="margin: 0in 0in 0pt\;">The August Empowerment Luncheon is sponsored by:&nbsp\;<a datafld="0:0" href="http://richardson.autumnleaves.com/home.php">Autumn Leaves of Richardson/N. Garland</a></p>\n
LOCATION:Hyatt Place Dallas/ Garland
UID:e.2096.1204
SEQUENCE:3
DTSTAMP:20260421T020357Z
URL:https://network.garlandchamber.com/events/details/wbe-empowerment-luncheon-october-2013-10-02-2013-1204
END:VEVENT

END:VCALENDAR
