BEGIN:VCALENDAR
VERSION:2.0
PRODID:-//ChamberMaster//Event Calendar 2.0//EN
METHOD:PUBLISH
X-PUBLISHED-TTL:P3D
REFRESH-INTERVAL:P3D
CALSCALE:GREGORIAN
BEGIN:VEVENT
DTSTART:20151007T163000Z
DTEND:20151007T180000Z
X-MICROSOFT-CDO-ALLDAYEVENT:FALSE
SUMMARY:WBe Empowerment Luncheon October 2015
DESCRIPTION:
X-ALT-DESC;FMTTYPE=text/html:&nbsp\;&nbsp\;&nbsp\;&nbsp\;
LOCATION:
UID:e.2096.2676
SEQUENCE:3
DTSTAMP:20260419T120440Z
URL:https://network.garlandchamber.com/events/details/wbe-empowerment-luncheon-october-2015-10-07-2015-2676
END:VEVENT

END:VCALENDAR
