BEGIN:VCALENDAR
VERSION:2.0
PRODID:-//ChamberMaster//Event Calendar 2.0//EN
METHOD:PUBLISH
X-PUBLISHED-TTL:P3D
REFRESH-INTERVAL:P3D
CALSCALE:GREGORIAN
BEGIN:VEVENT
DTSTART:20100101T060000Z
DTEND:20100101T060000Z
X-MICROSOFT-CDO-ALLDAYEVENT:FALSE
SUMMARY:WBe Empowerment Luncheon Sponsors 2010
DESCRIPTION:WBI Empowerment Luncheon Sponsors 2010
X-ALT-DESC;FMTTYPE=text/html:WBI Empowerment Luncheon Sponsors 2010
LOCATION:Hyatt Place
UID:e.2096.2076
SEQUENCE:3
DTSTAMP:20260423T163811Z
URL:https://network.garlandchamber.com/events/details/wbe-empowerment-luncheon-sponsors-2010-01-01-2010-2076
END:VEVENT

END:VCALENDAR
