BEGIN:VCALENDAR
VERSION:2.0
PRODID:-//ChamberMaster//Event Calendar 2.0//EN
METHOD:PUBLISH
X-PUBLISHED-TTL:P3D
REFRESH-INTERVAL:P3D
CALSCALE:GREGORIAN
BEGIN:VEVENT
DTSTART:20110101T060000Z
DTEND:20110101T060000Z
X-MICROSOFT-CDO-ALLDAYEVENT:FALSE
SUMMARY:WBe Empowerment Luncheon Sponsors 2011
DESCRIPTION:WBI Empowerment Luncheon Sponsors 2011
X-ALT-DESC;FMTTYPE=text/html:WBI Empowerment Luncheon Sponsors 2011
LOCATION:Hyatt Place
UID:e.2096.2221
SEQUENCE:3
DTSTAMP:20260422T235401Z
URL:https://network.garlandchamber.com/events/details/wbe-empowerment-luncheon-sponsors-2011-01-01-2011-2221
END:VEVENT

END:VCALENDAR
