BEGIN:VCALENDAR
VERSION:2.0
PRODID:-//ChamberMaster//Event Calendar 2.0//EN
METHOD:PUBLISH
X-PUBLISHED-TTL:P3D
REFRESH-INTERVAL:P3D
CALSCALE:GREGORIAN
BEGIN:VEVENT
DTSTART:20081113T230000Z
DTEND:20081114T010000Z
X-MICROSOFT-CDO-ALLDAYEVENT:FALSE
SUMMARY:WBe Holiday Extravaganza 2008
DESCRIPTION:
X-ALT-DESC;FMTTYPE=text/html:
LOCATION:Firewheel Town Center
UID:e.2096.591
SEQUENCE:3
DTSTAMP:20260424T121002Z
URL:https://network.garlandchamber.com/events/details/wbe-holiday-extravaganza-2008-11-13-2008-591
END:VEVENT

END:VCALENDAR
