BEGIN:VCALENDAR
VERSION:2.0
PRODID:-//ChamberMaster//Event Calendar 2.0//EN
METHOD:PUBLISH
X-PUBLISHED-TTL:P3D
REFRESH-INTERVAL:P3D
CALSCALE:GREGORIAN
BEGIN:VEVENT
DTSTART:20101118T233000Z
DTEND:20101119T013000Z
X-MICROSOFT-CDO-ALLDAYEVENT:FALSE
SUMMARY:WBe Holiday Extravaganza 2010
DESCRIPTION:
X-ALT-DESC;FMTTYPE=text/html:
LOCATION:Hyatt Place Dallas/ Garland
UID:e.2096.823
SEQUENCE:3
DTSTAMP:20260423T023251Z
URL:https://network.garlandchamber.com/events/details/wbe-holiday-extravaganza-2010-11-18-2010-823
END:VEVENT

END:VCALENDAR
