BEGIN:VCALENDAR
VERSION:2.0
PRODID:-//ChamberMaster//Event Calendar 2.0//EN
METHOD:PUBLISH
X-PUBLISHED-TTL:P3D
REFRESH-INTERVAL:P3D
CALSCALE:GREGORIAN
BEGIN:VEVENT
DTSTART:20111117T230000Z
DTEND:20111118T013000Z
X-MICROSOFT-CDO-ALLDAYEVENT:FALSE
SUMMARY:WBe Holiday Extravaganza 2011
DESCRIPTION:The Women's Business E-nitiative is excited to present its 5th Annual Holiday Extravaganza. Join us as we celebrate the holidays with food\, friends and fashion. Local retailers will feature this season's styles in our fashion show\, which will feature modeling by Garland community leaders! We'll have snacks and refreshments from Firewheel's finest vendors\, a special presentation from our host\, Ethan Allen\, and of course\, fabulous door prizes!\n\nDate: Nov. 17\, 2011\n\nTime: 5 - 7:30 p.m.\n\nLocation: Ethan Allen - Firewheel\n\nCost: $20 per person\n\nBasics to Bling:\n\nAttendees are encouraged to bring toiletries or hygiene products as a donation for the women at New Beginning Center. In addition to providing much-needed basics\, share some holiday cheer by donating a fun "bling" accessory item such as jewelry or a scarf. Monetary donations will also be accepted at the door. Any gift you can provide will be greatly appreciated. All donors will receive a small gift as a token of our appreciation for your support of this wonderful cause and will be entered into a drawing for a $250 Ethan Allen gift card!\n\n\n	\n		\n			\n			Suggested Donation Items:\n			\n			"Bling" Donation Items:\n		\n		\n			Toothbrushes\n			Scarves\n		\n		\n			Toothpaste\n			Necklaces\n		\n		\n			Curling Iron\n			Earrings\n		\n		\n			Hair Dryer\n			Bracelets\n		\n		\n			Shampoo/Conditioner\n			Hair Accessories\n		\n		\n			Tote Bags\n			 \n		\n		\n			Brushes/Combs\n			 \n		\n		\n			Wall Plug-in Scents\n			 \n		\n		\n			Hand Lotion\n			 \n		\n		\n			Hairspray\n			 \n		\n		\n			Deodorant\n			 \n		\n		\n			Facial Cleansing Products\n			 \n		\n		\n			\n			Body Spray
X-ALT-DESC;FMTTYPE=text/html:<p>The Women&#39\;s Business E-nitiative is excited to present its 5th Annual Holiday Extravaganza. Join us as we celebrate the holidays with food\, friends and fashion. Local retailers will feature this season&#39\;s styles in our fashion show\, which will feature modeling by Garland community leaders! We&#39\;ll have snacks and refreshments from Firewheel&#39\;s finest vendors\, a special presentation from our host\, Ethan Allen\, and of course\, fabulous door prizes!</p>\n\n<p><strong>Date:</strong> Nov. 17\, 2011<br />\n<strong>Time:</strong> 5 - 7:30 p.m.<br />\n<strong>Location:</strong> <a datafld="0:0" href="http://www.ethanallen.com/garland?country=US&amp\;region=&amp\;postalCode=75040">Ethan Allen</a> - Firewheel<br />\n<strong>Cost:</strong> $20 per person</p>\n\n<p><strong>Basics to Bling:</strong><br />\nAttendees are encouraged to bring toiletries or hygiene products as a donation for the women at <a datafld="0:0" href="http://www.newbeginningcenter.org/">New Beginning Center</a>. In addition to providing much-needed basics\, share some holiday cheer by donating a fun &quot\;bling&quot\; accessory item such as jewelry or a scarf. Monetary donations will also be accepted at the door. Any gift you can provide will be greatly appreciated. All donors will receive a small gift as a token of our appreciation for your support of this wonderful cause and will be entered into a drawing for a $250 Ethan Allen gift card!</p>\n\n<table background="" border="1" cellpadding="1" cellspacing="1" style="width: 75%\;" width="75%">\n	<tbody>\n		<tr>\n			<td>\n			<p><strong>Suggested Donation Items:</strong></p>\n			</td>\n			<td><strong>&quot\;Bling&quot\; Donation Items:</strong></td>\n		</tr>\n		<tr>\n			<td>Toothbrushes</td>\n			<td>Scarves</td>\n		</tr>\n		<tr>\n			<td>Toothpaste</td>\n			<td>Necklaces</td>\n		</tr>\n		<tr>\n			<td>Curling Iron</td>\n			<td>Earrings</td>\n		</tr>\n		<tr>\n			<td>Hair Dryer</td>\n			<td>Bracelets</td>\n		</tr>\n		<tr>\n			<td>Shampoo/Conditioner</td>\n			<td>Hair Accessories</td>\n		</tr>\n		<tr>\n			<td>Tote Bags</td>\n			<td>&nbsp\;</td>\n		</tr>\n		<tr>\n			<td>Brushes/Combs</td>\n			<td>&nbsp\;</td>\n		</tr>\n		<tr>\n			<td>Wall Plug-in Scents</td>\n			<td>&nbsp\;</td>\n		</tr>\n		<tr>\n			<td>Hand Lotion</td>\n			<td>&nbsp\;</td>\n		</tr>\n		<tr>\n			<td>Hairspray</td>\n			<td>&nbsp\;</td>\n		</tr>\n		<tr>\n			<td>Deodorant</td>\n			<td>&nbsp\;</td>\n		</tr>\n		<tr>\n			<td>Facial Cleansing Products</td>\n			<td>&nbsp\;</td>\n		</tr>\n		<tr>\n			<td>\n			<p>Body Spray</p>\n			</td>\n			<td>&nbsp\;</td>\n		</tr>\n	</tbody>\n</table>\n
LOCATION:Ethan Allen
UID:e.2096.958
SEQUENCE:3
DTSTAMP:20260422T091539Z
URL:https://network.garlandchamber.com/events/details/wbe-holiday-extravaganza-2011-11-17-2011-958
END:VEVENT

END:VCALENDAR
