BEGIN:VCALENDAR
VERSION:2.0
PRODID:-//ChamberMaster//Event Calendar 2.0//EN
METHOD:PUBLISH
X-PUBLISHED-TTL:P3D
REFRESH-INTERVAL:P3D
CALSCALE:GREGORIAN
BEGIN:VEVENT
DTSTART:20121115T230000Z
DTEND:20121116T013000Z
X-MICROSOFT-CDO-ALLDAYEVENT:FALSE
SUMMARY:WBe Holiday Extravaganza 2012
DESCRIPTION:The Women's Business E-nitiative is excited to present its 6th Annual Holiday Extravaganza. Join us as we celebrate the holidays with fashion\, food and friends. Local retailers will reveal this season's styles in our fashion show\, which will feature modeling by Garland community leaders! We'll have snacks and refreshments from area vendors\, a special presentation from our host\, Ethan Allen\, and of course\, fabulous door prizes!\n\nDate: Nov. 15\, 2012\n\nTime: 5 - 7:30 p.m.\n\nLocation: Ethan Allen - Firewheel\n\nCost: $20 per person\n\nSponsored by: American National Bank of Texas\, Compuquick\, Macy's and PDQ Staffing\n\nTreasures are a Girl's Best Friend:\n\nAttendees are encouraged to bring toiletries\, hygiene products or other necessities as a donation for the women at New Beginning Center.  Monetary donations will also be accepted at the door. Any gift you can provide will be greatly appreciated.\n\n\n	\n		\n			\n			Suggested Donation Items:\n			\n		\n		\n			Toothbrushes\n			Deodorant\n		\n		\n			Toothpaste\n			Facial Cleansing Products\n		\n		\n			Curling Iron\n			\n			Body Spray\n			\n		\n		\n			Hair Dryer\n			Blankets\n		\n		\n			Shampoo/Conditioner\n			Twin Sheets\n		\n		\n			Tote Bags\n			Paper Towels\n		\n		\n			Brushes/Combs\n			Toilet Paper\n		\n		\n			Wall Plug-in Scents\n			Copy Paper\n		\n		\n			Hand Lotion\n			Canned Goods\n		\n		\n			Hairspray\n			 \n		\n	\n\n\nThe New Beginning Center is also in need of a box truck to move donations and furniture. If this is something you or your company may be interested in donating\, please call Colleen Jamieson at (972) 276-0423.
X-ALT-DESC;FMTTYPE=text/html:<p>The Women&#39\;s Business E-nitiative is excited to present its 6th Annual Holiday Extravaganza. Join us as we celebrate the holidays with fashion\,&nbsp\;food and friends. Local retailers will reveal this season&#39\;s styles in our fashion show\, which will feature modeling by Garland community leaders! We&#39\;ll have snacks and refreshments from&nbsp\;area vendors\, a special presentation from our host\, Ethan Allen\, and of course\, fabulous door prizes!</p>\n\n<p><strong>Date:</strong> Nov. 15\, 2012<br />\n<strong>Time:</strong> 5 - 7:30 p.m.<br />\n<strong>Location:</strong> <a datafld="0:0" href="http://www.ethanallen.com/garland?country=US&amp\;region=&amp\;postalCode=75040">Ethan Allen</a> - Firewheel<br />\n<strong>Cost:</strong> $20 per person</p>\n\n<p><strong>Sponsored by:</strong> <a datafld="0:0" href="http://www.anbtx.com/">American National Bank of Texas</a>\,&nbsp\;<a datafld="0:0" href="http://compuquick.com/">Compuquick</a>\, <a datafld="0:0" href="http://www.macys.com">Macy&#39\;s</a>&nbsp\;and <a datafld="0:0" href="http://pdqtemporaries.com/asap/newasappdqtemp.asp">PDQ Staffing</a></p>\n\n<p><strong>Treasures are a Girl&#39\;s Best Friend:</strong><br />\nAttendees are encouraged to bring toiletries\, hygiene products or other necessities as a donation for the women at <a datafld="0:0" href="http://www.newbeginningcenter.org/">New Beginning Center</a>.&nbsp\; Monetary donations will also be accepted at the door. Any gift you can provide will be greatly appreciated.</p>\n\n<table background="" border="1" cellpadding="1" cellspacing="1" style="width: 75%\;" width="75%">\n	<tbody>\n		<tr>\n			<td colspan="2">\n			<p><strong>Suggested Donation Items:</strong></p>\n			</td>\n		</tr>\n		<tr>\n			<td>Toothbrushes</td>\n			<td>Deodorant</td>\n		</tr>\n		<tr>\n			<td>Toothpaste</td>\n			<td>Facial Cleansing Products</td>\n		</tr>\n		<tr>\n			<td>Curling Iron</td>\n			<td>\n			<p>Body Spray</p>\n			</td>\n		</tr>\n		<tr>\n			<td>Hair Dryer</td>\n			<td>Blankets</td>\n		</tr>\n		<tr>\n			<td>Shampoo/Conditioner</td>\n			<td>Twin Sheets</td>\n		</tr>\n		<tr>\n			<td>Tote Bags</td>\n			<td>Paper Towels</td>\n		</tr>\n		<tr>\n			<td>Brushes/Combs</td>\n			<td>Toilet Paper</td>\n		</tr>\n		<tr>\n			<td>Wall Plug-in Scents</td>\n			<td>Copy Paper</td>\n		</tr>\n		<tr>\n			<td>Hand Lotion</td>\n			<td>Canned Goods</td>\n		</tr>\n		<tr>\n			<td>Hairspray</td>\n			<td>&nbsp\;</td>\n		</tr>\n	</tbody>\n</table>\n\n<p>The New Beginning Center is also in need of a box truck to&nbsp\;move donations and furniture. If this is something you or your company may be interested in donating\, please call Colleen Jamieson at (972) 276-0423.</p>\n
LOCATION:Ethan Allen
UID:e.2096.1102
SEQUENCE:3
DTSTAMP:20260421T175531Z
URL:https://network.garlandchamber.com/events/details/wbe-holiday-extravaganza-2012-11-15-2012-1102
END:VEVENT

END:VCALENDAR
