BEGIN:VCALENDAR
VERSION:2.0
PRODID:-//ChamberMaster//Event Calendar 2.0//EN
METHOD:PUBLISH
X-PUBLISHED-TTL:P3D
REFRESH-INTERVAL:P3D
CALSCALE:GREGORIAN
BEGIN:VEVENT
DTSTART:20131121T230000Z
DTEND:20131122T013000Z
X-MICROSOFT-CDO-ALLDAYEVENT:FALSE
SUMMARY:WBe Holiday Extravaganza 2013
DESCRIPTION:The Women's Business E-nitiative is excited to present its 7th Annual Holiday Extravaganza. Join us as we celebrate the holidays with fashion\, food and friends. Local retailers will reveal this season's styles in our fashion show\, which will feature modeling by Garland community leaders! We'll have snacks and refreshments from area vendors\, a special presentation from our host\, Ethan Allen\, and of course\, fabulous door prizes!\n\nDate: Nov. 21\, 2013\n\nTime: 5 - 7:30 p.m.\n\nLocation: Ethan Allen - Firewheel Town Center\n\nCost: $20 per person\n\nPretty Paper\, Pretty Ribbons of Blue:\n\nAttendees are encouraged to bring paper items such as paper towels\, toilet paper\, copy paper or other necessities as a donation for the women at New Beginning Center.  Monetary donations will also be accepted at the door. Any gift you can provide will be greatly appreciated.
X-ALT-DESC;FMTTYPE=text/html:<p>The Women&#39\;s Business E-nitiative is excited to present its 7th Annual Holiday Extravaganza. Join us as we celebrate the holidays with fashion\,&nbsp\;food and friends. Local retailers will reveal this season&#39\;s styles in our fashion show\, which will feature modeling by Garland community leaders! We&#39\;ll have snacks and refreshments from&nbsp\;area vendors\, a special presentation from our host\, Ethan Allen\, and of course\, fabulous door prizes!</p>\n\n<p><strong>Date:</strong> Nov. 21\, 2013<br />\n<strong>Time:</strong> 5 - 7:30 p.m.<br />\n<strong>Location:</strong> <a datafld="0:0" href="http://www.ethanallen.com/garland?country=US&amp\;region=&amp\;postalCode=75040">Ethan Allen</a> - Firewheel Town Center<br />\n<strong>Cost:</strong> $20 per person</p>\n\n<p><strong>Pretty Paper\, Pretty Ribbons of Blue:</strong><br />\nAttendees are encouraged to bring paper items&nbsp\;such as paper towels\, toilet paper\, copy paper&nbsp\;or other necessities as a donation for the women at <a datafld="0:0" href="http://www.newbeginningcenter.org/">New Beginning Center</a>.&nbsp\; Monetary donations will also be accepted at the door. Any gift you can provide will be greatly appreciated.</p>\n
LOCATION:Ethan Allen
UID:e.2096.1192
SEQUENCE:3
DTSTAMP:20260421T001646Z
URL:https://network.garlandchamber.com/events/details/wbe-holiday-extravaganza-2013-11-21-2013-1192
END:VEVENT

END:VCALENDAR
