BEGIN:VCALENDAR
VERSION:2.0
PRODID:-//ChamberMaster//Event Calendar 2.0//EN
METHOD:PUBLISH
X-PUBLISHED-TTL:P3D
REFRESH-INTERVAL:P3D
CALSCALE:GREGORIAN
BEGIN:VEVENT
DTSTART:20141120T230000Z
DTEND:20141121T013000Z
X-MICROSOFT-CDO-ALLDAYEVENT:FALSE
SUMMARY:WBe Holiday Extravaganza 2014
DESCRIPTION:The Women's Business E-nitiative is excited to present its 8th Annual Holiday Extravaganza. Join us as we celebrate the holidays with fashion\, food and friends. Local retailers will reveal this season's styles in our fashion show\, which will feature modeling by Garland community leaders! We'll have snacks and refreshments from area vendors\, a special presentation from our host and of course\, fabulous door prizes!\n\nDate: Nov. 20\, 2014\n\nTime: 5 - 7:30 p.m.\n\nCost: $20 per person
X-ALT-DESC;FMTTYPE=text/html:<p>The Women&#39\;s Business E-nitiative is excited to present its 8th Annual Holiday Extravaganza. Join us as we celebrate the holidays with fashion\,&nbsp\;food and friends. Local retailers will reveal this season&#39\;s styles in our fashion show\, which will feature modeling by Garland community leaders! We&#39\;ll have snacks and refreshments from&nbsp\;area vendors\, a special presentation from our host and of course\, fabulous door prizes!</p>\n\n<p><strong>Date:</strong> Nov. 20\, 2014<br />\n<strong>Time:</strong> 5 - 7:30 p.m.<br />\n<strong>Cost:</strong> $20 per person</p>\n
LOCATION:
UID:e.2096.1229
SEQUENCE:3
DTSTAMP:20260420T044727Z
URL:https://network.garlandchamber.com/events/details/wbe-holiday-extravaganza-2014-11-20-2014-1229
END:VEVENT

END:VCALENDAR
