BEGIN:VCALENDAR
VERSION:2.0
PRODID:-//ChamberMaster//Event Calendar 2.0//EN
METHOD:PUBLISH
X-PUBLISHED-TTL:P3D
REFRESH-INTERVAL:P3D
CALSCALE:GREGORIAN
BEGIN:VEVENT
DTSTART:20110127T230000Z
DTEND:20110128T003000Z
X-MICROSOFT-CDO-ALLDAYEVENT:FALSE
SUMMARY:WBe Networking January 2011
DESCRIPTION:
X-ALT-DESC;FMTTYPE=text/html:
LOCATION:Hyatt Place Dallas/ Garland
UID:e.2096.866
SEQUENCE:3
DTSTAMP:20260422T234513Z
URL:https://network.garlandchamber.com/events/details/wbe-networking-january-2011-01-27-2011-866
END:VEVENT

END:VCALENDAR
