BEGIN:VCALENDAR
VERSION:2.0
PRODID:-//ChamberMaster//Event Calendar 2.0//EN
METHOD:PUBLISH
X-PUBLISHED-TTL:P3D
REFRESH-INTERVAL:P3D
CALSCALE:GREGORIAN
BEGIN:VEVENT
DTSTART:20100520T223000Z
DTEND:20100521T000000Z
X-MICROSOFT-CDO-ALLDAYEVENT:FALSE
SUMMARY:WBe Nothing But Networking 2010
DESCRIPTION:
X-ALT-DESC;FMTTYPE=text/html:
LOCATION:Thomas A. Reed\, DDS
UID:e.2096.790
SEQUENCE:3
DTSTAMP:20260423T103852Z
URL:https://network.garlandchamber.com/events/details/wbe-nothing-but-networking-2010-05-20-2010-790
END:VEVENT

END:VCALENDAR
