BEGIN:VCALENDAR
VERSION:2.0
PRODID:-//ChamberMaster//Event Calendar 2.0//EN
METHOD:PUBLISH
X-PUBLISHED-TTL:P3D
REFRESH-INTERVAL:P3D
CALSCALE:GREGORIAN
BEGIN:VEVENT
DTSTART:20090618T220000Z
DTEND:20090619T000000Z
X-MICROSOFT-CDO-ALLDAYEVENT:FALSE
SUMMARY:WBe Summer Social 2009
DESCRIPTION:
X-ALT-DESC;FMTTYPE=text/html:
LOCATION:Hyatt Place Dallas/ Garland
UID:e.2096.644
SEQUENCE:3
DTSTAMP:20260424T023211Z
URL:https://network.garlandchamber.com/events/details/wbe-summer-social-2009-06-18-2009-644
END:VEVENT

END:VCALENDAR
