BEGIN:VCALENDAR
VERSION:2.0
PRODID:-//ChamberMaster//Event Calendar 2.0//EN
METHOD:PUBLISH
X-PUBLISHED-TTL:P3D
REFRESH-INTERVAL:P3D
CALSCALE:GREGORIAN
BEGIN:VEVENT
DTSTART:20061102T230000Z
DTEND:20061103T003000Z
X-MICROSOFT-CDO-ALLDAYEVENT:FALSE
SUMMARY:WBI Event: Get ready for the Holidays!
DESCRIPTION:Date: Thursday\, N ovember 2\, 2006Time: 5:00 p.m. - 6:30 p.m.Location: Courtyard by Marriot1000 S. ShermanRichardson\, Texas 75081Please bring plenty of business cards.  Door prizes will be awarded.  Each attendee will receive a goody bag for attending. RSVP Required by October 31st to Jami Manners at 469-326-7477 or e-mail at assistant@garlandchamber.com
X-ALT-DESC;FMTTYPE=text/html:<DIV style="FONT-FAMILY: Arial"><DIV class=shape style="PADDING-RIGHT: 2.88pt\; PADDING-LEFT: 2.88pt\; PADDING-BOTTOM: 2.88pt\; PADDING-TOP: 2.88pt" v:shape="_x0000_s1032"><DIV id=wrapdiv295><SPAN style="FONT-WEIGHT: bold\; COLOR: #15a31f\; language: EN\; mso-ansi-language: EN"><P class=MsoNormal>&nbsp\;<?xml:namespace prefix = v ns = "urn:schemas-microsoft-com:vml" /><v:group id=_x0000_s1035 style="Z-INDEX: 1\; LEFT: 126pt\; WIDTH: 217.88pt\; POSITION: absolute\; TOP: 18pt\; HEIGHT: 67.44pt\; rotation: 355.5" coordsize="1311273\,497817" coordorigin="23153529\,21461554" alt=""> <v:rect id=_x0000_s1036 style="LEFT: 23153529px\; VISIBILITY: visible\; WIDTH: 1311273px\; POSITION: absolute\; TOP: 21461554px\; HEIGHT: 497817px\; mso-wrap-distance-left: 2.88pt\; mso-wrap-distance-top: 2.88pt\; mso-wrap-distance-right: 2.88pt\; mso-wrap-distance-bottom: 2.88pt\; mso-wrap-edited: f" alt="" strokeweight="2pt" o:cliptowrap="t" insetpen="t" strokecolor="#009 [1]" stroked="f" fillcolor="red"><v:stroke><?xml:namespace prefix = o ns = "urn:schemas-microsoft-com:office:office" /><o:left insetpen="t" joinstyle="miter" weight="2pt" color="#009 [1]" v:ext="view"></o:left><o:top insetpen="t" joinstyle="miter" weight="2pt" color="#009 [1]" v:ext="view"></o:top><o:right insetpen="t" joinstyle="miter" weight="2pt" color="#009 [1]" v:ext="view"></o:right><o:bottom insetpen="t" joinstyle="miter" weight="2pt" color="#009 [1]" v:ext="view"></o:bottom><o:column color="black [0]" v:ext="view" color2="white [7]"></o:column></v:stroke><v:shadow color="#ccc [4]"></v:shadow><o:lock v:ext="edit" shapetype="t"></o:lock><v:textbox inset="2.88pt\,2.88pt\,2.88pt\,2.88pt"></v:textbox></v:rect><v:shapetype id=_x0000_t202 coordsize="21600\,21600" path="m\,l\,21600r21600\,l21600\,xe" o:spt="202"><v:stroke joinstyle="miter"></v:stroke><v:path o:connecttype="rect" gradientshapeok="t"></v:path></v:shapetype><v:shape id=_x0000_s1037 style="LEFT: 23171515px\; VISIBILITY: visible\; WIDTH: 1278456px\; POSITION: absolute\; TOP: 21498523px\; HEIGHT: 384585px\; mso-wrap-distance-left: 2.88pt\; mso-wrap-distance-top: 2.88pt\; mso-wrap-distance-right: 2.88pt\; mso-wrap-distance-bottom: 2.88pt\; mso-wrap-edited: f" alt="" strokeweight="0" o:cliptowrap="t" insetpen="t" strokecolor="#009 [1]" stroked="f" fillcolor="red" type="#_x0000_t202"><v:stroke><o:left insetpen="t" joinstyle="miter" weight="0" color="#009 [1]" v:ext="view"></o:left><o:top insetpen="t" joinstyle="miter" weight="0" color="#009 [1]" v:ext="view"></o:top><o:right insetpen="t" joinstyle="miter" weight="0" color="#009 [1]" v:ext="view"></o:right><o:bottom insetpen="t" joinstyle="miter" weight="0" color="#009 [1]" v:ext="view"></o:bottom><o:column color="black [0]" v:ext="view" color2="white [7]"></o:column></v:stroke><v:shadow color="#ccc [4]"></v:shadow><o:lock v:ext="edit" shapetype="t"></o:lock><v:textbox style="mso-column-margin: 5.7pt" inset="2.85pt\,2.85pt\,2.85pt\,2.85pt"></v:textbox></v:shape></v:group> </P><P class=MsoNormal>Date: <FONT color=#000000>Thursday\, N<v:shape id=_x0000_s1031 style="Z-INDEX: 1\; LEFT: 167.25pt\; VISIBILITY: visible\; WIDTH: 192.75pt\; POSITION: absolute\; TOP: 92.25pt\; HEIGHT: 11.96pt\; mso-wrap-distance-left: 2.88pt\; mso-wrap-distance-top: 2.88pt\; mso-wrap-distance-right: 2.88pt\; mso-wrap-distance-bottom: 2.88pt\; mso-wrap-edited: f" strokeweight="0" o:cliptowrap="t" insetpen="t" strokecolor="black [0]" stroked="f" fillcolor="white [7]" type="#_x0000_t202"><v:fill color2="white [7]"></v:fill><v:stroke><o:left color="black [0]" v:ext="view" color2="white [7]"></o:left><o:top color="black [0]" v:ext="view" color2="white [7]"></o:top><o:right color="black [0]" v:ext="view" color2="white [7]"></o:right><o:bottom color="black [0]" v:ext="view" color2="white [7]"></o:bottom><o:column color="black [0]" v:ext="view" color2="white [7]"></o:column></v:stroke><v:shadow color="#ccc [4]"></v:shadow><o:lock v:ext="edit" shapetype="t"></o:lock><v:textbox style="mso-column-margin: 5.7pt" inset="2.85pt\,0\,2.85pt\,0"></P><DIV dir=ltr><H4><SPAN style="FONT-SIZE: 9pt\; LINE-HEIGHT: 110%\; FONT-FAMILY: 'Comic Sans MS'\; language: EN\; mso-ansi-language: EN\; mso-greek-font-family: 'Comic Sans MS'\; mso-cyrillic-font-family: 'Comic Sans MS'\; mso-font-width: 100%"><o:p></o:p></SPAN>&nbsp\;</H4></DIV></v:textbox></v:shape>ovember 2\, 2006</FONT></SPAN><P></P><P class=MsoNormal><P class=MsoNormal><SPAN style="language: EN\; mso-ansi-language: EN"></SPAN></P><SPAN style="language: EN"><o:p><FONT color=#008000><FONT color=#000000></FONT>Time: </FONT><FONT color=#000000>5:00 p.m. - 6:30 p.m.</FONT></o:p></SPAN><P></P></DIV><P class=MsoNormal><SPAN style="FONT-WEIGHT: bold\; COLOR: #15a31f\; language: EN\; mso-ansi-language: EN">Location: </SPAN><SPAN style="language: EN\; mso-ansi-language: EN">Courtyard by Marriot</SPAN></P><P class=MsoNormal><SPAN style="language: EN\; mso-ansi-language: EN"><v:group id=_x0000_s1040 style="Z-INDEX: 1\; LEFT: 126pt\; WIDTH: 217.88pt\; POSITION: absolute\; TOP: 18pt\; HEIGHT: 67.44pt\; rotation: 355.5" coordsize="1311273\,497817" coordorigin="23153529\,21461554" alt=""><v:rect id=_x0000_s1041 style="LEFT: 23153529px\; VISIBILITY: visible\; WIDTH: 1311273px\; POSITION: absolute\; TOP: 21461554px\; HEIGHT: 497817px\; mso-wrap-distance-left: 2.88pt\; mso-wrap-distance-top: 2.88pt\; mso-wrap-distance-right: 2.88pt\; mso-wrap-distance-bottom: 2.88pt\; mso-wrap-edited: f" alt="" strokeweight="2pt" o:cliptowrap="t" insetpen="t" strokecolor="#009 [1]" stroked="f" fillcolor="red"><v:stroke><o:left insetpen="t" joinstyle="miter" weight="2pt" color="#009 [1]" v:ext="view"></o:left><o:top insetpen="t" joinstyle="miter" weight="2pt" color="#009 [1]" v:ext="view"></o:top><o:right insetpen="t" joinstyle="miter" weight="2pt" color="#009 [1]" v:ext="view"></o:right><o:bottom insetpen="t" joinstyle="miter" weight="2pt" color="#009 [1]" v:ext="view"></o:bottom><o:column color="black [0]" v:ext="view" color2="white [7]"></o:column></v:stroke><v:shadow color="#ccc [4]"></v:shadow><o:lock v:ext="edit" shapetype="t"></o:lock><v:textbox inset="2.88pt\,2.88pt\,2.88pt\,2.88pt"></v:textbox></v:rect><v:shapetype id=_x0000_t202 coordsize="21600\,21600" path="m\,l\,21600r21600\,l21600\,xe" o:spt="202"><v:stroke joinstyle="miter"></v:stroke><v:path o:connecttype="rect" gradientshapeok="t"></v:path></v:shapetype><v:shape id=_x0000_s1042 style="LEFT: 23171515px\; VISIBILITY: visible\; WIDTH: 1278456px\; POSITION: absolute\; TOP: 21498523px\; HEIGHT: 384585px\; mso-wrap-distance-left: 2.88pt\; mso-wrap-distance-top: 2.88pt\; mso-wrap-distance-right: 2.88pt\; mso-wrap-distance-bottom: 2.88pt\; mso-wrap-edited: f" alt="" strokeweight="0" o:cliptowrap="t" insetpen="t" strokecolor="#009 [1]" stroked="f" fillcolor="red" type="#_x0000_t202"><v:stroke><o:left insetpen="t" joinstyle="miter" weight="0" color="#009 [1]" v:ext="view"></o:left><o:top insetpen="t" joinstyle="miter" weight="0" color="#009 [1]" v:ext="view"></o:top><o:right insetpen="t" joinstyle="miter" weight="0" color="#009 [1]" v:ext="view"></o:right><o:bottom insetpen="t" joinstyle="miter" weight="0" color="#009 [1]" v:ext="view"></o:bottom><o:column color="black [0]" v:ext="view" color2="white [7]"></o:column></v:stroke><v:shadow color="#ccc [4]"></v:shadow><o:lock v:ext="edit" shapetype="t"></o:lock><v:textbox style="mso-column-margin: 5.7pt" inset="2.85pt\,2.85pt\,2.85pt\,2.85pt"></v:textbox></v:shape></v:group></SPAN><SPAN style="language: EN\; mso-ansi-language: EN"></SPAN></P><P class=MsoNormal><SPAN style="language: EN\; mso-ansi-language: EN">1000 S. Sherman<o:p></o:p></SPAN></P><P class=MsoNormal><SPAN style="language: EN\; mso-ansi-language: EN">Richardson\, Texas 75081</SPAN></P></DIV><v:rect id=_x0000_s1033 style="Z-INDEX: 7\; LEFT: 2083.5pt\; WIDTH: 54pt\; POSITION: absolute\; TOP: 1935pt\; HEIGHT: 32.63pt\; mso-wrap-distance-left: 2.88pt\; mso-wrap-distance-top: 2.88pt\; mso-wrap-distance-right: 2.88pt\; mso-wrap-distance-bottom: 2.88pt" o:cliptowrap="t" insetpen="t" strokecolor="black [0]" stroked="f" fillcolor="white [7]" filled="f" o:preferrelative="t"><v:fill color2="black [0]"></v:fill><v:stroke color2="white [7]"><o:left color="black [0]" v:ext="view" color2="white [7]"></o:left><o:top color="black [0]" v:ext="view" color2="white [7]"></o:top><o:right color="black [0]" v:ext="view" color2="white [7]"></o:right><o:bottom color="black [0]" v:ext="view" color2="white [7]"></o:bottom><o:column color="black [0]" v:ext="view" color2="white [7]"></o:column></v:stroke><v:imagedata o:title="Marriot Logo" src="file:///C:\\DOCUME~1\\ASSIST~1\\LOCALS~1\\Temp\\msohtml1\\01\\clip_image009.jpg"></v:imagedata><v:shadow color="#ccc [4]"></v:shadow><v:path o:extrusionok="f"></v:path><o:lock v:ext="edit" aspectratio="t"></o:lock></v:rect><v:shape id=_x0000_s1034 style="Z-INDEX: 8\; LEFT: 1966.5pt\; WIDTH: 193.5pt\; POSITION: absolute\; TOP: 2007pt\; HEIGHT: 36pt\; mso-wrap-distance-left: 2.88pt\; mso-wrap-distance-top: 2.88pt\; mso-wrap-distance-right: 2.88pt\; mso-wrap-distance-bottom: 2.88pt" o:cliptowrap="t" insetpen="t" strokecolor="black [0]" stroked="f" fillcolor="white [7]" type="#_x0000_t202" filled="f"><v:fill color2="black [0]"></v:fill><v:stroke color2="white [7]"><o:left color="black [0]" v:ext="view" color2="white [7]"></o:left><o:top color="black [0]" v:ext="view" color2="white [7]"></o:top><o:right color="black [0]" v:ext="view" color2="white [7]"></o:right><o:bottom color="black [0]" v:ext="view" color2="white [7]"></o:bottom><o:column color="black [0]" v:ext="view" color2="white [7]"></o:column></v:stroke><v:shadow color="#ccc [4]"></v:shadow><v:textbox style="mso-column-margin: 5.76pt" inset="2.88pt\,2.88pt\,2.88pt\,2.88pt"></v:textbox></v:shape><DIV class=shape style="PADDING-RIGHT: 2.88pt\; PADDING-LEFT: 2.88pt\; PADDING-BOTTOM: 2.88pt\; PADDING-TOP: 2.88pt" v:shape="_x0000_s1034"><P class=MsoNormal style="TEXT-ALIGN: center"><SPAN style="FONT-WEIGHT: bold\; FONT-SIZE: 8pt\; COLOR: #15a31f\; LINE-HEIGHT: 100%\; FONT-FAMILY: Tahoma\; language: EN\; mso-ansi-language: EN\; mso-greek-font-family: Tahoma\; mso-cyrillic-font-family: Tahoma\; mso-default-font-family: Tahoma\; mso-ascii-font-family: Tahoma\; mso-latin-font-family: Tahoma\; mso-hebrew-font-family: Tahoma\; mso-arabic-font-family: Tahoma\; mso-thai-font-family: Tahoma\; mso-latinext-font-family: Tahoma">Please bring plenty of business cards.<SPAN style="mso-spacerun: yes">&nbsp\; </SPAN>Door prizes will be awarded.<SPAN style="mso-spacerun: yes">&nbsp\; </SPAN>Each attendee will receive a goody bag for attending.</SPAN><SPAN style="FONT-WEIGHT: bold\; FONT-SIZE: 8pt\; COLOR: #15a31f\; LINE-HEIGHT: 100%\; language: EN"><o:p></o:p></SPAN></P></DIV><v:shape id=_x0000_s1035 style="Z-INDEX: 9\; LEFT: 1953pt\; VISIBILITY: visible\; WIDTH: 207pt\; POSITION: absolute\; TOP: 2045.7pt\; HEIGHT: 42.3pt\; mso-wrap-distance-left: 2.88pt\; mso-wrap-distance-top: 2.88pt\; mso-wrap-distance-right: 2.88pt\; mso-wrap-distance-bottom: 2.88pt\; mso-wrap-edited: f" strokeweight="0" o:cliptowrap="t" insetpen="t" strokecolor="#cccceb [3]" fillcolor="#15a31f" type="#_x0000_t202"><v:stroke><o:left color="black [0]" v:ext="view" color2="white [7]"></o:left><o:top color="black [0]" v:ext="view" color2="white [7]"></o:top><o:right color="black [0]" v:ext="view" color2="white [7]"></o:right><o:bottom color="black [0]" v:ext="view" color2="white [7]"></o:bottom><o:column color="black [0]" v:ext="view" color2="white [7]"></o:column></v:stroke><v:shadow color="#ccc [4]"></v:shadow><o:lock v:ext="edit" shapetype="t"></o:lock><v:textbox style="mso-column-margin: 5.7pt" inset="2.85pt\,0\,2.85pt\,0"></v:textbox></v:shape><DIV class=shape style="PADDING-RIGHT: 2.85pt\; PADDING-LEFT: 2.85pt\; PADDING-BOTTOM: 0pt\; PADDING-TOP: 0pt" v:shape="_x0000_s1035"><P class=MsoOrganizationName2 style="TEXT-ALIGN: center"><SPAN style="FONT-SIZE: 7.5pt\; COLOR: white\; LINE-HEIGHT: 100%\; FONT-FAMILY: 'Gill Sans MT'\; language: EN\; mso-ansi-language: EN\; mso-greek-font-family: 'Comic Sans MS'\; mso-cyrillic-font-family: 'Comic Sans MS'">&nbsp\;<o:p></o:p></SPAN></P><P class=MsoOrganizationName2 style="TEXT-ALIGN: center"><SPAN style="FONT-SIZE: 8pt\; COLOR: white\; LINE-HEIGHT: 100%\; FONT-FAMILY: 'Gill Sans MT'\; language: EN\; mso-ansi-language: EN\; mso-greek-font-family: 'Comic Sans MS'\; mso-cyrillic-font-family: 'Comic Sans MS'">RSVP Required by October 31st to <o:p></o:p></SPAN></P><P class=MsoOrganizationName2 style="TEXT-ALIGN: center"><SPAN style="FONT-SIZE: 8pt\; COLOR: white\; LINE-HEIGHT: 100%\; FONT-FAMILY: 'Gill Sans MT'\; language: EN\; mso-ansi-language: EN\; mso-greek-font-family: 'Comic Sans MS'\; mso-cyrillic-font-family: 'Comic Sans MS'">Jami Manners at 469-326-7477 or e-mail at assistant@garlandchamber.com<o:p></o:p></SPAN></P></DIV><v:shape id=_x0000_s1036 style="Z-INDEX: 10\; LEFT: 1836pt\; WIDTH: 54pt\; POSITION: absolute\; TOP: 2040.3pt\; HEIGHT: 40.5pt\; mso-wrap-distance-left: 2.88pt\; mso-wrap-distance-top: 2.88pt\; mso-wrap-distance-right: 2.88pt\; mso-wrap-distance-bottom: 2.88pt" o:cliptowrap="t" insetpen="t" strokecolor="black [0]" stroked="f" fillcolor="white [7]" type="#_x0000_t202" filled="f"><v:fill color2="black [0]"></v:fill><v:stroke color2="white [7]"><o:left color="black [0]" v:ext="view" color2="white [7]"></o:left><o:top color="black [0]" v:ext="view" color2="white [7]"></o:top><o:right color="black [0]" v:ext="view" color2="white [7]"></o:right><o:bottom color="black [0]" v:ext="view" color2="white [7]"></o:bottom><o:column color="black [0]" v:ext="view" color2="white [7]"></o:column></v:stroke><v:shadow color="#ccc [4]"></v:shadow><v:textbox style="mso-column-margin: 5.76pt" inset="2.88pt\,2.88pt\,2.88pt\,2.88pt"></v:textbox></v:shape><DIV class=shape style="PADDING-RIGHT: 2.88pt\; PADDING-LEFT: 2.88pt\; PADDING-BOTTOM: 2.88pt\; PADDING-TOP: 2.88pt" v:shape="_x0000_s1036"><P class=MsoNormal><P class=MsoNormal><SPAN style="FONT-WEIGHT: bold\; FONT-SIZE: 8pt\; COLOR: red\; LINE-HEIGHT: 100%\; FONT-FAMILY: Tahoma\; language: EN\; mso-ansi-language: EN\; mso-greek-font-family: Tahoma\; mso-cyrillic-font-family: Tahoma\; mso-default-font-family: Tahoma\; mso-ascii-font-family: Tahoma\; mso-latin-font-family: Tahoma\; mso-hebrew-font-family: Tahoma\; mso-arabic-font-family: Tahoma\; mso-thai-font-family: Tahoma\; mso-latinext-font-family: Tahoma"></SPAN><SPAN style="FONT-WEIGHT: bold\; FONT-SIZE: 8pt\; COLOR: red\; LINE-HEIGHT: 100%\; FONT-FAMILY: Tahoma\; language: EN\; mso-greek-font-family: Tahoma\; mso-cyrillic-font-family: Tahoma\; mso-default-font-family: Tahoma\; mso-ascii-font-family: Tahoma\; mso-latin-font-family: Tahoma\; mso-hebrew-font-family: Tahoma\; mso-arabic-font-family: Tahoma\; mso-thai-font-family: Tahoma\; mso-latinext-font-family: Tahoma"><o:p></o:p></SPAN></P><P></P></DIV><v:rect id=_x0000_s1037 style="Z-INDEX: 11\; LEFT: 1894.5pt\; WIDTH: 49.5pt\; POSITION: absolute\; TOP: 2039.26pt\; HEIGHT: 41.54pt\; mso-wrap-distance-left: 2.88pt\; mso-wrap-distance-top: 2.88pt\; mso-wrap-distance-right: 2.88pt\; mso-wrap-distance-bottom: 2.88pt" o:cliptowrap="t" insetpen="t" strokecolor="black [0]" stroked="f" fillcolor="white [7]" filled="f" o:preferrelative="t"><v:fill color2="black [0]"></v:fill><v:stroke color2="white [7]"><o:left color="black [0]" v:ext="view" color2="white [7]"></o:left><o:top color="black [0]" v:ext="view" color2="white [7]"></o:top><o:right color="black [0]" v:ext="view" color2="white [7]"></o:right><o:bottom color="black [0]" v:ext="view" color2="white [7]"></o:bottom><o:column color="black [0]" v:ext="view" color2="white [7]"></o:column></v:stroke><v:imagedata o:title="At Your Service Catering Logo" src="file:///C:\\DOCUME~1\\ASSIST~1\\LOCALS~1\\Temp\\msohtml1\\01\\clip_image011.jpg"></v:imagedata><v:shadow color="#ccc [4]"></v:shadow><v:path o:extrusionok="f"></v:path><o:lock v:ext="edit" aspectratio="t"></o:lock></v:rect><v:rect id=_x0000_s1038 style="Z-INDEX: 12\; LEFT: 2011.5pt\; WIDTH: 112.5pt\; POSITION: absolute\; TOP: 1973.65pt\; HEIGHT: 33.19pt" o:cliptowrap="t" insetpen="t" stroked="f" filled="f" o:preferrelative="t"><v:imagedata o:title="" src="file:///C:\\DOCUME~1\\ASSIST~1\\LOCALS~1\\Temp\\msohtml1\\01\\clip_image013.png"></v:imagedata><v:path o:extrusionok="f"></v:path><o:lock v:ext="edit" aspectratio="t"></o:lock></v:rect></DIV>
LOCATION:Courtyard by Marriot
UID:e.2096.329
SEQUENCE:3
DTSTAMP:20260425T223938Z
URL:https://network.garlandchamber.com/events/details/wbi-event-get-ready-for-the-holidays-11-02-2006-329
END:VEVENT

END:VCALENDAR
