BEGIN:VCALENDAR
VERSION:2.0
PRODID:-//ChamberMaster//Event Calendar 2.0//EN
METHOD:PUBLISH
X-PUBLISHED-TTL:P3D
REFRESH-INTERVAL:P3D
CALSCALE:GREGORIAN
BEGIN:VEVENT
DTSTART:20070322T220000Z
DTEND:20070322T233000Z
X-MICROSOFT-CDO-ALLDAYEVENT:FALSE
SUMMARY:WBI Kick Off Event - Women's Health
DESCRIPTION:
X-ALT-DESC;FMTTYPE=text/html:
LOCATION:Baylor Medical Center
UID:e.2096.367
SEQUENCE:3
DTSTAMP:20260425T164629Z
URL:https://network.garlandchamber.com/events/details/wbi-kick-off-event-women-s-health-03-22-2007-367
END:VEVENT

END:VCALENDAR
