BEGIN:VCALENDAR
VERSION:2.0
PRODID:-//ChamberMaster//Event Calendar 2.0//EN
METHOD:PUBLISH
X-PUBLISHED-TTL:P3D
REFRESH-INTERVAL:P3D
CALSCALE:GREGORIAN
BEGIN:VEVENT
DTSTART:20080814T220000Z
DTEND:20080814T233000Z
X-MICROSOFT-CDO-ALLDAYEVENT:FALSE
SUMMARY:WBI presents ''7 Sins of Interpersonal Communication''
DESCRIPTION:
X-ALT-DESC;FMTTYPE=text/html:
LOCATION:Chambrel at Club Hill
UID:e.2096.561
SEQUENCE:3
DTSTAMP:20260424T160934Z
URL:https://network.garlandchamber.com/events/details/wbi-presents-7-sins-of-interpersonal-communication-08-14-2008-561
END:VEVENT

END:VCALENDAR
