BEGIN:VCALENDAR
VERSION:2.0
PRODID:-//ChamberMaster//Event Calendar 2.0//EN
METHOD:PUBLISH
X-PUBLISHED-TTL:P3D
REFRESH-INTERVAL:P3D
CALSCALE:GREGORIAN
BEGIN:VEVENT
DTSTART:20080508T220000Z
DTEND:20080508T233000Z
X-MICROSOFT-CDO-ALLDAYEVENT:FALSE
SUMMARY:WBI presents ''Stay Healthy\, Stay Beautiful''
DESCRIPTION:
X-ALT-DESC;FMTTYPE=text/html:
LOCATION:Baylor Medical Center at Garland
UID:e.2096.519
SEQUENCE:3
DTSTAMP:20260424T200745Z
URL:https://network.garlandchamber.com/events/details/wbi-presents-stay-healthy-stay-beautiful-05-08-2008-519
END:VEVENT

END:VCALENDAR
