BEGIN:VCALENDAR
VERSION:2.0
PRODID:-//ChamberMaster//Event Calendar 2.0//EN
METHOD:PUBLISH
X-PUBLISHED-TTL:P3D
REFRESH-INTERVAL:P3D
CALSCALE:GREGORIAN
BEGIN:VEVENT
DTSTART:20111109T200000Z
DTEND:20111109T210000Z
X-MICROSOFT-CDO-ALLDAYEVENT:FALSE
SUMMARY:Webinar: Happy New Year: Maxing out 2011 and Looking to 2012 - CANCELED
DESCRIPTION:J.R. Atkins is an Author\, Speaker and Consultant in the areas of Social Media\, Mobile Apps and Sales & Marketing. As an Author\, J.R. has partnered with Dr Stephen Covey and other authors to produce "Success Simplified" a Compilation of Success stories and tips for today's professional. J.R.'s section covers "The Big 5 of Social Media" and how to use them to improve your business. As a speaker\, J.R. is noted for "taking the mystery out of Social Media" and speaking in terms that "even a CEO can understand." He is best known for working with Company Leaders\, Sales Professionals and Marketing Managers on how Social Media Networks can make a positive impact on their organization. As a Consultant\, J.R. works with business leaders to understand the shift in selling that is occurring as more consumers and businesses turn to the internet for information before engaging in the sales process. J.R. implements plans to increase sales results in this new sales environment. J.R. began speaking publicly in 1994 and on social media in March of 2009. He holds an MBA from The University of Phoenix\, Dallas Campus and a BBA from Texas A&M University.  J.R. is an ASA certified sailing instructor and avid reader\, as well as a musician. Married to Stacey Groom Atkins\, J.R. has a son\, Coleman\, who is a junior at Centennial High School in Frisco\, TX. More information at:www.SomethingDifferentCompanies.comhttp://www.linkedin.com/in/jratkins85 http://www.facebook.com/jratkins85 http://www.twitter.com/jratkinss http://somethingdifferentcompanies.com/bloghttp://www.YouTube.com/jratkins1jratkins@SomethingDifferentCompanies.com
X-ALT-DESC;FMTTYPE=text/html:<DIV><SPAN style="LINE-HEIGHT: 115%\; FONT-FAMILY: 'Times New Roman'\,'serif'\; COLOR: #548dd4\; FONT-SIZE: 36pt"><SPAN style="LINE-HEIGHT: 115%\; FONT-FAMILY: 'Cambria'\,'serif'\; COLOR: black\; FONT-SIZE: 12pt\; mso-fareast-font-family: 'Times New Roman'\; mso-bidi-font-family: Arial\; mso-ascii-theme-font: major-latin\; mso-hansi-theme-font: major-latin"><SPAN style="LINE-HEIGHT: 115%\; FONT-FAMILY: 'Cambria'\,'serif'\; FONT-SIZE: 12pt\; mso-fareast-font-family: 'Times New Roman'\; mso-bidi-font-family: 'Times New Roman'\; mso-ascii-theme-font: major-latin\; mso-hansi-theme-font: major-latin"></SPAN></SPAN></SPAN><P style="MARGIN: 0in 0in 10pt" class=MsoNormal><SPAN style="LINE-HEIGHT: 115%\; FONT-FAMILY: 'Times New Roman'\,'serif'\; COLOR: #548dd4\; FONT-SIZE: 36pt"><SPAN style="LINE-HEIGHT: 115%\; FONT-FAMILY: 'Cambria'\,'serif'\; COLOR: black\; FONT-SIZE: 12pt\; mso-fareast-font-family: 'Times New Roman'\; mso-bidi-font-family: Arial\; mso-ascii-theme-font: major-latin\; mso-hansi-theme-font: major-latin">J.R. Atkins is an Author\, Speaker and Consultant in the areas of Social Media\, Mobile Apps and Sales &amp\; Marketing.<?xml:namespace prefix = o ns = "urn:schemas-microsoft-com:office:office" /><o:p></o:p></SPAN></P><P style="MARGIN: 0in 0in 0pt" class=MsoNormal><SPAN style="LINE-HEIGHT: 115%\; FONT-FAMILY: 'Cambria'\,'serif'\; COLOR: black\; FONT-SIZE: 12pt\; mso-fareast-font-family: 'Times New Roman'\; mso-bidi-font-family: Arial\; mso-ascii-theme-font: major-latin\; mso-hansi-theme-font: major-latin"><o:p>&nbsp\;</o:p></SPAN></P><P style="MARGIN: 0in 0in 0pt" class=MsoNormal><SPAN style="LINE-HEIGHT: 115%\; FONT-FAMILY: 'Cambria'\,'serif'\; COLOR: black\; FONT-SIZE: 12pt\; mso-fareast-font-family: 'Times New Roman'\; mso-bidi-font-family: Arial\; mso-ascii-theme-font: major-latin\; mso-hansi-theme-font: major-latin">As an Author\, J.R. has partnered with Dr Stephen Covey and other authors to produce "<SPAN style="COLOR: windowtext\; TEXT-DECORATION: none\; text-underline: none">Success Simplified"</SPAN> a Compilation of Success stories and tips for today's professional. J.R.'s section covers "The Big 5 of Social Media" and how to use them to improve your business.<o:p></o:p></SPAN></P><P style="MARGIN: 0in 0in 0pt" class=MsoNormal><SPAN style="LINE-HEIGHT: 115%\; FONT-FAMILY: 'Cambria'\,'serif'\; COLOR: black\; FONT-SIZE: 12pt\; mso-fareast-font-family: 'Times New Roman'\; mso-bidi-font-family: Arial\; mso-ascii-theme-font: major-latin\; mso-hansi-theme-font: major-latin"><o:p>&nbsp\;</o:p></SPAN></P><P style="MARGIN: 0in 0in 0pt" class=MsoNormal><SPAN style="LINE-HEIGHT: 115%\; FONT-FAMILY: 'Cambria'\,'serif'\; COLOR: black\; FONT-SIZE: 12pt\; mso-fareast-font-family: 'Times New Roman'\; mso-bidi-font-family: Arial\; mso-ascii-theme-font: major-latin\; mso-hansi-theme-font: major-latin">As a speaker\, J.R. is noted for "taking the mystery out of Social Media" and speaking in terms that "even a CEO can understand." He is best known for working with Company Leaders\, Sales Professionals and Marketing Managers on how Social Media Networks can make a positive impact on their organization.<o:p></o:p></SPAN></P><P style="MARGIN: 0in 0in 0pt" class=MsoNormal><SPAN style="LINE-HEIGHT: 115%\; FONT-FAMILY: 'Cambria'\,'serif'\; COLOR: black\; FONT-SIZE: 12pt\; mso-fareast-font-family: 'Times New Roman'\; mso-bidi-font-family: Arial\; mso-ascii-theme-font: major-latin\; mso-hansi-theme-font: major-latin"><o:p>&nbsp\;</o:p></SPAN></P><P style="MARGIN: 0in 0in 0pt" class=MsoNormal><SPAN style="LINE-HEIGHT: 115%\; FONT-FAMILY: 'Cambria'\,'serif'\; COLOR: black\; FONT-SIZE: 12pt\; mso-fareast-font-family: 'Times New Roman'\; mso-bidi-font-family: Arial\; mso-ascii-theme-font: major-latin\; mso-hansi-theme-font: major-latin">As a Consultant\, J.R. works with business leaders to understand the shift in selling that is occurring as more consumers and businesses turn to the internet for information before engaging in the sales process. J.R. implements plans to increase sales results in this new sales environment.<o:p></o:p></SPAN></P><P style="MARGIN: 0in 0in 0pt" class=MsoNormal><SPAN style="LINE-HEIGHT: 115%\; FONT-FAMILY: 'Cambria'\,'serif'\; COLOR: black\; FONT-SIZE: 12pt\; mso-fareast-font-family: 'Times New Roman'\; mso-bidi-font-family: Arial\; mso-ascii-theme-font: major-latin\; mso-hansi-theme-font: major-latin"><o:p>&nbsp\;</o:p></SPAN></P><P style="MARGIN: 0in 0in 0pt" class=MsoNormal><SPAN style="LINE-HEIGHT: 115%\; FONT-FAMILY: 'Cambria'\,'serif'\; COLOR: black\; FONT-SIZE: 12pt\; mso-fareast-font-family: 'Times New Roman'\; mso-bidi-font-family: Arial\; mso-ascii-theme-font: major-latin\; mso-hansi-theme-font: major-latin">J.R. began speaking publicly in 1994 and on social media in March of 2009. He holds an MBA from The University of Phoenix\, Dallas Campus and a BBA from Texas A&amp\;M University. <SPAN style="mso-spacerun: yes">&nbsp\;</SPAN>J.R. is an ASA certified sailing instructor and avid reader\, as well as a musician.<o:p></o:p></SPAN></P><P style="MARGIN: 0in 0in 0pt" class=MsoNormal><SPAN style="LINE-HEIGHT: 115%\; FONT-FAMILY: 'Cambria'\,'serif'\; COLOR: black\; FONT-SIZE: 12pt\; mso-fareast-font-family: 'Times New Roman'\; mso-bidi-font-family: Arial\; mso-ascii-theme-font: major-latin\; mso-hansi-theme-font: major-latin"><o:p>&nbsp\;</o:p></SPAN></P><P style="MARGIN: 0in 0in 0pt" class=MsoNormal><SPAN style="LINE-HEIGHT: 115%\; FONT-FAMILY: 'Cambria'\,'serif'\; COLOR: black\; FONT-SIZE: 12pt\; mso-fareast-font-family: 'Times New Roman'\; mso-bidi-font-family: Arial\; mso-ascii-theme-font: major-latin\; mso-hansi-theme-font: major-latin">Married to Stacey Groom Atkins\, J.R. has a son\, Coleman\, who is a junior at Centennial High School in Frisco\, TX.<o:p></o:p></SPAN></P><P style="MARGIN: 0in 0in 0pt" class=MsoNormal><SPAN style="LINE-HEIGHT: 115%\; FONT-FAMILY: 'Cambria'\,'serif'\; COLOR: black\; FONT-SIZE: 12pt\; mso-fareast-font-family: 'Times New Roman'\; mso-bidi-font-family: Arial\; mso-ascii-theme-font: major-latin\; mso-hansi-theme-font: major-latin"><o:p>&nbsp\;</o:p></SPAN></P><P style="MARGIN: 0in 0in 0pt" class=MsoNormal><SPAN style="LINE-HEIGHT: 115%\; FONT-FAMILY: 'Cambria'\,'serif'\; COLOR: black\; FONT-SIZE: 12pt\; mso-fareast-font-family: 'Times New Roman'\; mso-bidi-font-family: Arial\; mso-ascii-theme-font: major-latin\; mso-hansi-theme-font: major-latin">More information at:<o:p></o:p></SPAN></P><P style="MARGIN: 0in 0in 0pt" class=MsoNormal><SPAN style="LINE-HEIGHT: 115%\; FONT-FAMILY: 'Cambria'\,'serif'\; COLOR: black\; FONT-SIZE: 12pt\; mso-fareast-font-family: 'Times New Roman'\; mso-bidi-font-family: Arial\; mso-ascii-theme-font: major-latin\; mso-hansi-theme-font: major-latin"><SPAN style="COLOR: windowtext\; TEXT-DECORATION: none\; text-underline: none"><A href="http://www.SomethingDifferentCompanies.com">www.SomethingDifferentCompanies.com</A></SPAN></SPAN></P><P style="MARGIN: 0in 0in 0pt" class=MsoNormal><SPAN style="LINE-HEIGHT: 115%\; FONT-FAMILY: 'Cambria'\,'serif'\; COLOR: black\; FONT-SIZE: 12pt\; mso-fareast-font-family: 'Times New Roman'\; mso-bidi-font-family: Arial\; mso-ascii-theme-font: major-latin\; mso-hansi-theme-font: major-latin\; mso-no-proof: yes"><SPAN style="COLOR: windowtext\; TEXT-DECORATION: none\; text-underline: none"><A href="http://www.linkedin.com/in/jratkins85">http://www.linkedin.com/in/jratkins85</A> </SPAN></SPAN></P><P style="MARGIN: 0in 0in 0pt" class=MsoNormal><SPAN style="LINE-HEIGHT: 115%\; FONT-FAMILY: 'Cambria'\,'serif'\; COLOR: black\; FONT-SIZE: 12pt\; mso-fareast-font-family: 'Times New Roman'\; mso-bidi-font-family: Arial\; mso-ascii-theme-font: major-latin\; mso-hansi-theme-font: major-latin\; mso-no-proof: yes"><SPAN style="COLOR: windowtext\; TEXT-DECORATION: none\; text-underline: none"><A href="http://www.facebook.com/jratkins85">http://www.facebook.com/jratkins85</A> </SPAN></SPAN></P><P style="MARGIN: 0in 0in 0pt" class=MsoNormal><SPAN style="LINE-HEIGHT: 115%\; FONT-FAMILY: 'Cambria'\,'serif'\; COLOR: black\; FONT-SIZE: 12pt\; mso-fareast-font-family: 'Times New Roman'\; mso-bidi-font-family: Arial\; mso-ascii-theme-font: major-latin\; mso-hansi-theme-font: major-latin\; mso-no-proof: yes"><SPAN style="COLOR: windowtext\; TEXT-DECORATION: none\; text-underline: none"><A href="http://www.twitter.com/jratkinss">http://www.twitter.com/jratkins</SPAN>s</A> <o:p></o:p></SPAN></P><P style="MARGIN: 0in 0in 0pt" class=MsoNormal><SPAN style="LINE-HEIGHT: 115%\; FONT-FAMILY: 'Cambria'\,'serif'\; COLOR: black\; FONT-SIZE: 12pt\; mso-fareast-font-family: 'Times New Roman'\; mso-bidi-font-family: Arial\; mso-ascii-theme-font: major-latin\; mso-hansi-theme-font: major-latin"><A href="http://somethingdifferentcompanies.com/blog"><SPAN style="COLOR: blue">http://somethingdifferentcompanies.com/blog</SPAN></A></SPAN><SPAN style="LINE-HEIGHT: 115%\; FONT-FAMILY: 'Cambria'\,'serif'\; FONT-SIZE: 12pt\; mso-fareast-font-family: 'Times New Roman'\; mso-bidi-font-family: 'Times New Roman'\; mso-ascii-theme-font: major-latin\; mso-hansi-theme-font: major-latin"><o:p></o:p></SPAN></P><P style="MARGIN: 0in 0in 0pt" class=MsoNormal><SPAN style="LINE-HEIGHT: 115%\; FONT-FAMILY: 'Cambria'\,'serif'\; COLOR: black\; FONT-SIZE: 12pt\; mso-fareast-font-family: 'Times New Roman'\; mso-bidi-font-family: Arial\; mso-ascii-theme-font: major-latin\; mso-hansi-theme-font: major-latin"><A href="http://www.YouTube.com/jratkins1"><SPAN style="COLOR: blue">http://www.YouTube.com/jratkins1</SPAN></A></SPAN><SPAN style="LINE-HEIGHT: 115%\; FONT-FAMILY: 'Cambria'\,'serif'\; FONT-SIZE: 12pt\; mso-fareast-font-family: 'Times New Roman'\; mso-bidi-font-family: 'Times New Roman'\; mso-ascii-theme-font: major-latin\; mso-hansi-theme-font: major-latin"><o:p></o:p></SPAN></P><P style="MARGIN: 0in 0in 0pt" class=MsoNormal><SPAN style="LINE-HEIGHT: 115%\; FONT-FAMILY: 'Cambria'\,'serif'\; COLOR: black\; FONT-SIZE: 12pt\; mso-fareast-font-family: 'Times New Roman'\; mso-bidi-font-family: Arial\; mso-ascii-theme-font: major-latin\; mso-hansi-theme-font: major-latin"><A href="mailto:jratkins@SomethingDifferentCompanies.com"><SPAN style="COLOR: blue">jratkins@SomethingDifferentCompanies.com</SPAN></A><o:p></o:p></SPAN></P><P style="MARGIN: 0in 0in 0pt" class=MsoNormal><SPAN style="LINE-HEIGHT: 115%\; FONT-FAMILY: 'Cambria'\,'serif'\; COLOR: black\; FONT-SIZE: 12pt\; mso-fareast-font-family: 'Times New Roman'\; mso-bidi-font-family: Arial\; mso-ascii-theme-font: major-latin\; mso-hansi-theme-font: major-latin"><o:p>&nbsp\;</o:p></SPAN></P><P style="MARGIN: 0in 0in 10pt" class=MsoNormal><SPAN style="LINE-HEIGHT: 115%\; FONT-FAMILY: 'Cambria'\,'serif'\; FONT-SIZE: 12pt\; mso-ascii-theme-font: major-latin\; mso-hansi-theme-font: major-latin"><o:p><FONT color=#000000>&nbsp\;</FONT></o:p></SPAN></P><P style="MARGIN: 0in 0in 10pt" class=MsoNormal></SPAN></P></DIV>
LOCATION:Online: Your Home or Office Computer
UID:e.2096.967
SEQUENCE:3
DTSTAMP:20260422T092000Z
URL:https://network.garlandchamber.com/events/details/webinar-happy-new-year-maxing-out-2011-and-looking-to-2012-canceled-11-09-2011-967
END:VEVENT

END:VCALENDAR
